BEGIN:VCALENDAR
VERSION:2.0
PRODID:-//Shir Hadash - ECPv6.15.20//NONSGML v1.0//EN
CALSCALE:GREGORIAN
METHOD:PUBLISH
X-WR-CALNAME:Shir Hadash
X-ORIGINAL-URL:https://shirhadashjerusalem.com
X-WR-CALDESC:Events for Shir Hadash
REFRESH-INTERVAL;VALUE=DURATION:PT1H
X-Robots-Tag:noindex
X-PUBLISHED-TTL:PT1H
BEGIN:VTIMEZONE
TZID:Asia/Jerusalem
BEGIN:DAYLIGHT
TZOFFSETFROM:+0200
TZOFFSETTO:+0300
TZNAME:IDT
DTSTART:20180323T000000
END:DAYLIGHT
BEGIN:STANDARD
TZOFFSETFROM:+0300
TZOFFSETTO:+0200
TZNAME:IST
DTSTART:20181027T230000
END:STANDARD
BEGIN:DAYLIGHT
TZOFFSETFROM:+0200
TZOFFSETTO:+0300
TZNAME:IDT
DTSTART:20190329T000000
END:DAYLIGHT
BEGIN:STANDARD
TZOFFSETFROM:+0300
TZOFFSETTO:+0200
TZNAME:IST
DTSTART:20191026T230000
END:STANDARD
BEGIN:DAYLIGHT
TZOFFSETFROM:+0200
TZOFFSETTO:+0300
TZNAME:IDT
DTSTART:20200327T000000
END:DAYLIGHT
BEGIN:STANDARD
TZOFFSETFROM:+0300
TZOFFSETTO:+0200
TZNAME:IST
DTSTART:20201024T230000
END:STANDARD
END:VTIMEZONE
BEGIN:VEVENT
DTSTART;VALUE=DATE:20190824
DTEND;VALUE=DATE:20190825
DTSTAMP:20260423T105110
CREATED:20190820T202826Z
LAST-MODIFIED:20190822T150524Z
UID:1463-1566604800-1566691199@shirhadashjerusalem.com
SUMMARY:Shabbat - Parshat Ekev
DESCRIPTION:FRIDAY NIGHT \nCandles 6:38 PM \nMincha 7:03 PM \nFollowed by Carlebach Style Kabalat Shabbat & Ma’ariv \n  \nSHABBAT MORNING \nPre-Shacharit Shiur 8 AM \nShacharit 8:45 AM \nKid’s Service 10:15 AM \nGuest Speaker\, Rabbi Shimshon Jacob 10:30 AM \nKiddush: 11 AM
URL:https://shirhadashjerusalem.com/event/shabbat-parshat-ekev/
CATEGORIES:Our Events
ATTACH;FMTTYPE=image/jpeg:https://shirhadashjerusalem.com/wp-content/uploads/2019/08/shimshon.jpg
END:VEVENT
BEGIN:VEVENT
DTSTART;TZID=Asia/Jerusalem:20190817T080000
DTEND;TZID=Asia/Jerusalem:20190817T170000
DTSTAMP:20260423T105110
CREATED:20190804T202614Z
LAST-MODIFIED:20190811T140254Z
UID:1460-1566028800-1566061200@shirhadashjerusalem.com
SUMMARY:Shabbat Schedule - Va'Etchanan
DESCRIPTION:FRIDAY NIGHT \nCandles 6:45 PM \nUnlike previously announced\, there is Friday night tephillot tonight! \nMincha 7:10 PM\, followed by Kabalat Shabbat and Maariv \n  \nSHABBAT MORNING \nPre-Shacharit Shiur 8 AM \nShacharit 8:45 AM \nGuest D’var Torah: Rabbi Avraham Aryeh Trugman \nKid’s Service 10:15 AM \nKiddush\, Sponsored by Ann Young Saban\, in commemoration of the Yahrzeit of her father\, Stuart: 11 AM
URL:https://shirhadashjerusalem.com/event/shabbat-schedule-vaetchanan/
CATEGORIES:Our Events
ATTACH;FMTTYPE=image/jpeg:https://shirhadashjerusalem.com/wp-content/uploads/2019/08/rabbitrugman-e1565534643587.jpg
END:VEVENT
BEGIN:VEVENT
DTSTART;VALUE=DATE:20190810
DTEND;VALUE=DATE:20190811
DTSTAMP:20260423T105110
CREATED:20190804T135119Z
LAST-MODIFIED:20190804T200738Z
UID:1378-1565395200-1565481599@shirhadashjerusalem.com
SUMMARY:Shabbat Schedule - Devarim
DESCRIPTION:Each and every Shabbat is a celebration at Shir Hadash.  Our schedule this Shabbat includes: \nFRIDAY AFTERNOON \nCandles: 6:52 PM \nMincha: 25 Minutes after candle-lighting time \nCarlebach Style Kabalat Shabbat: 10 Minutes after Mincha\, followed by Ma’ariv \nSHABBAT MORNING \nPre-Shacharit Shiur: 8 AM (Abrams Beit Midrash) \nShacharit: 8:45 AM (Henoch Hall) \nLate Minyan: 9:30 AM (Pear Educational Loft) \nKid’s Service: 10:15 AM (Miklat) \nKiddush 11 AM (Orenstein Terrace)
URL:https://shirhadashjerusalem.com/event/basicshabbatschedule-2/
LOCATION:shir hadash\, Yakov Rubin #1\, jerusalem\, Jerusalem\, 93111\, Israel
CATEGORIES:Our Events
ATTACH;FMTTYPE=image/jpeg:https://shirhadashjerusalem.com/wp-content/uploads/2017/01/shabbat.jpg
ORGANIZER;CN="shir hadash":MAILTO:shirhadash613@gmail.com
END:VEVENT
BEGIN:VEVENT
DTSTART;TZID=Asia/Jerusalem:20190808T080000
DTEND;TZID=Asia/Jerusalem:20190808T170000
DTSTAMP:20260423T105110
CREATED:20191014T142708Z
LAST-MODIFIED:20190808T142919Z
UID:1656-1565251200-1565283600@shirhadashjerusalem.com
SUMMARY:Sukkot First Day
DESCRIPTION:Shacharit 8:45 AM \nHallel 9:20 AM \nSpecial Guest Leiner: Fred Samuels \nKid’s Service 10:15 AM \nKiddush 11:15 AM\, Sponsored by Bob and Susan Kohlhagen
URL:https://shirhadashjerusalem.com/event/sukkot-first-day/
CATEGORIES:Our Events
ATTACH;FMTTYPE=image/jpeg:https://shirhadashjerusalem.com/wp-content/uploads/2019/08/sukkot.jpg
END:VEVENT
BEGIN:VEVENT
DTSTART;TZID=Asia/Jerusalem:20190804T090000
DTEND;TZID=Asia/Jerusalem:20190804T100000
DTSTAMP:20260423T105110
CREATED:20190804T202144Z
LAST-MODIFIED:20190804T203118Z
UID:1458-1564909200-1564912800@shirhadashjerusalem.com
SUMMARY:Daf Yomi All Month 9:05 AM
DESCRIPTION:
URL:https://shirhadashjerusalem.com/event/daf-yomi-all-week-905-am/
END:VEVENT
BEGIN:VEVENT
DTSTART;TZID=Asia/Jerusalem:20190804T081500
DTEND;TZID=Asia/Jerusalem:20190804T090000
DTSTAMP:20260423T105110
CREATED:20190804T202001Z
LAST-MODIFIED:20190804T203129Z
UID:1456-1564906500-1564909200@shirhadashjerusalem.com
SUMMARY:Shacharit All Month 8:15 AM
DESCRIPTION:
URL:https://shirhadashjerusalem.com/event/shacharit-all-week-815-am/
END:VEVENT
END:VCALENDAR