BEGIN:VCALENDAR
VERSION:2.0
PRODID:-//Shir Hadash - ECPv6.15.20//NONSGML v1.0//EN
CALSCALE:GREGORIAN
METHOD:PUBLISH
X-WR-CALNAME:Shir Hadash
X-ORIGINAL-URL:https://shirhadashjerusalem.com
X-WR-CALDESC:Events for Shir Hadash
REFRESH-INTERVAL;VALUE=DURATION:PT1H
X-Robots-Tag:noindex
X-PUBLISHED-TTL:PT1H
BEGIN:VTIMEZONE
TZID:Asia/Jerusalem
BEGIN:DAYLIGHT
TZOFFSETFROM:+0200
TZOFFSETTO:+0300
TZNAME:IDT
DTSTART:20180323T000000
END:DAYLIGHT
BEGIN:STANDARD
TZOFFSETFROM:+0300
TZOFFSETTO:+0200
TZNAME:IST
DTSTART:20181027T230000
END:STANDARD
BEGIN:DAYLIGHT
TZOFFSETFROM:+0200
TZOFFSETTO:+0300
TZNAME:IDT
DTSTART:20190329T000000
END:DAYLIGHT
BEGIN:STANDARD
TZOFFSETFROM:+0300
TZOFFSETTO:+0200
TZNAME:IST
DTSTART:20191026T230000
END:STANDARD
BEGIN:DAYLIGHT
TZOFFSETFROM:+0200
TZOFFSETTO:+0300
TZNAME:IDT
DTSTART:20200327T000000
END:DAYLIGHT
BEGIN:STANDARD
TZOFFSETFROM:+0300
TZOFFSETTO:+0200
TZNAME:IST
DTSTART:20201024T230000
END:STANDARD
END:VTIMEZONE
BEGIN:VEVENT
DTSTART;VALUE=DATE:20190921
DTEND;VALUE=DATE:20190922
DTSTAMP:20260424T003928
CREATED:20190904T105759Z
LAST-MODIFIED:20190904T105759Z
UID:1702-1569024000-1569110399@shirhadashjerusalem.com
SUMMARY:Ki Tavo
DESCRIPTION:Candles 6:03 PM \nMincha 6:28 PM \nFollowed by Kabalat Shabbat and Ma’ariv \n** \nPre Shacharit Shiur 8 AM \nShacharit 8:45 AM \nKids Service 10:15 AM \nKiddush 11 AM\, Sponsored by the Brown and Pear families in commemoration of the first yahrzeits of the Ians’ fathers.
URL:https://shirhadashjerusalem.com/event/ki-tavo/
CATEGORIES:Upcoming Events
ATTACH;FMTTYPE=image/jpeg:https://shirhadashjerusalem.com/wp-content/uploads/2017/01/shabbat.jpg
END:VEVENT
BEGIN:VEVENT
DTSTART;TZID=Asia/Jerusalem:20190917T113000
DTEND;TZID=Asia/Jerusalem:20190917T123000
DTSTAMP:20260424T003928
CREATED:20190804T203841Z
LAST-MODIFIED:20190804T203841Z
UID:1474-1568719800-1568723400@shirhadashjerusalem.com
SUMMARY:Meaning in Mitzvot
DESCRIPTION:Rabbi Pear’s weekly exploration of the 613 Commandments meets every Tuesday morning at 11:30 AM at the OU Israel Center at 22 Keren HaYesod Street (and uploaded on OU Torah a day or two later).
URL:https://shirhadashjerusalem.com/event/meaning-in-mitzvot-2/
ATTACH;FMTTYPE=image/jpeg:https://shirhadashjerusalem.com/wp-content/uploads/2019/08/613-e1603108368943.jpg
END:VEVENT
BEGIN:VEVENT
DTSTART;VALUE=DATE:20190914
DTEND;VALUE=DATE:20190915
DTSTAMP:20260424T003928
CREATED:20190827T151621Z
LAST-MODIFIED:20190904T105125Z
UID:1690-1568419200-1568505599@shirhadashjerusalem.com
SUMMARY:Shabbat - Ki Tetzei
DESCRIPTION:FRIDAY NIGHT \nCandles 6:08 PM \nMincha 6:30 PM \nFollowed by Carlebach Style Kabalat Shabbat & Ma’ariv \n  \nSHABBAT MORNING \nPre-Shacharit Shiur 8 AM \nShacharit 8:45 AM \nKid’s Service 10:15 AM \nKiddush 11 AM\, celebrating the Shabbat Chatan of Rafi Lurie
URL:https://shirhadashjerusalem.com/event/shabbat-reeh-2-2/
CATEGORIES:Upcoming Events
ATTACH;FMTTYPE=image/jpeg:https://shirhadashjerusalem.com/wp-content/uploads/2017/01/shabbat.jpg
END:VEVENT
BEGIN:VEVENT
DTSTART;TZID=Asia/Jerusalem:20190910T113000
DTEND;TZID=Asia/Jerusalem:20190910T123000
DTSTAMP:20260424T003928
CREATED:20190804T203633Z
LAST-MODIFIED:20190811T141047Z
UID:1470-1568115000-1568118600@shirhadashjerusalem.com
SUMMARY:Rabbi Pear's Shiur Returns: Meaning in Mitzvot
DESCRIPTION:Rabbi Pear’s weekly exploration of the 613 Commandments resumes on this day\, hosted by the OU Israel Center at 22 Keren HaYesod Street (and uploaded on OU Torah a day or two later).  Tuesdays at 11:30 AM.
URL:https://shirhadashjerusalem.com/event/meaning-in-mitzvot/
LOCATION:OU Israel Center\, 22 Keren HaYesod\, jerusalem\, Jerusalem\, Israel
CATEGORIES:Our Events
ATTACH;FMTTYPE=image/jpeg:https://shirhadashjerusalem.com/wp-content/uploads/2019/08/613-e1603108368943.jpg
END:VEVENT
BEGIN:VEVENT
DTSTART;TZID=Asia/Jerusalem:20190908T110000
DTEND;TZID=Asia/Jerusalem:20190908T123000
DTSTAMP:20260424T003928
CREATED:20190917T070402Z
LAST-MODIFIED:20190905T070448Z
UID:1714-1567940400-1567945800@shirhadashjerusalem.com
SUMMARY:Parsha Plus
DESCRIPTION:Join Peta Pellach for a review of the weekly Torah portion.
URL:https://shirhadashjerusalem.com/event/parsha-plus-2/
END:VEVENT
BEGIN:VEVENT
DTSTART;TZID=Asia/Jerusalem:20190908T110000
DTEND;TZID=Asia/Jerusalem:20190908T123000
DTSTAMP:20260424T003928
CREATED:20190905T070229Z
LAST-MODIFIED:20190905T070229Z
UID:1712-1567940400-1567945800@shirhadashjerusalem.com
SUMMARY:Parsha Plus
DESCRIPTION:Join Peta Pellach for a review of the weekly Torah portion.
URL:https://shirhadashjerusalem.com/event/parsha-plus/
END:VEVENT
BEGIN:VEVENT
DTSTART;VALUE=DATE:20190907
DTEND;VALUE=DATE:20190908
DTSTAMP:20260424T003928
CREATED:20190825T145303Z
LAST-MODIFIED:20190827T150544Z
UID:1683-1567814400-1567900799@shirhadashjerusalem.com
SUMMARY:Shabbat - Shoftim
DESCRIPTION:FRIDAY NIGHT \nCandles 6:21 PM \nMincha 6:45 PM \nFollowed by Carlebach Style Kabalat Shabbat & Ma’ariv \n  \nSHABBAT MORNING \nPre-Shacharit Shiur 8 AM \nShacharit 8:45 AM \nKid’s Service 10:15 AM \nKiddush 11 AM
URL:https://shirhadashjerusalem.com/event/shabbat-reeh-3/
CATEGORIES:Our Events
ATTACH;FMTTYPE=image/jpeg:https://shirhadashjerusalem.com/wp-content/uploads/2017/01/shabbat.jpg
END:VEVENT
BEGIN:VEVENT
DTSTART;TZID=Asia/Jerusalem:20190904T200000
DTEND;TZID=Asia/Jerusalem:20190904T210000
DTSTAMP:20260424T003928
CREATED:20190805T105119Z
LAST-MODIFIED:20190904T082418Z
UID:1510-1567627200-1567630800@shirhadashjerusalem.com
SUMMARY:Rabbi Brovender's Shiur is Postponed
DESCRIPTION:One of Israel’s leading teachers\, Bonei Zion Award Winner Rabbi Chaim Brovender offers his unique and innovative analysis of the weekly parsha each Wednesday night at 8 PM.
URL:https://shirhadashjerusalem.com/event/rabbi-brovender-parsha-4-2/
LOCATION:shir hadash\, Yakov Rubin #1\, jerusalem\, Jerusalem\, 93111\, Israel
CATEGORIES:Our Events
ATTACH;FMTTYPE=image/jpeg:https://shirhadashjerusalem.com/wp-content/uploads/2016/12/rabbibrovender.jpg
END:VEVENT
BEGIN:VEVENT
DTSTART;TZID=Asia/Jerusalem:20190831T080000
DTEND;TZID=Asia/Jerusalem:20190831T170000
DTSTAMP:20260424T003928
CREATED:20190804T203009Z
LAST-MODIFIED:20190827T150618Z
UID:1465-1567238400-1567270800@shirhadashjerusalem.com
SUMMARY:Shabbat - Re'eh
DESCRIPTION:FRIDAY NIGHT \nCandles 6:29 PM \nMincha 6:54 PM \nFollowed by Carlebach Style Kabalat Shabbat & Ma’ariv \n  \nSHABBAT MORNING \nPre-Shacharit Shiur 8 AM with Peta Pellach \nShacharit 8:45 AM \nLate Minyan 9:30 AM \nKid’s Service 10:15 AM \nKiddush\, Sponsored by Yonatan Silver: 11 AM
URL:https://shirhadashjerusalem.com/event/shabbat-reeh/
END:VEVENT
BEGIN:VEVENT
DTSTART;VALUE=DATE:20190824
DTEND;VALUE=DATE:20190825
DTSTAMP:20260424T003928
CREATED:20190820T202826Z
LAST-MODIFIED:20190822T150524Z
UID:1463-1566604800-1566691199@shirhadashjerusalem.com
SUMMARY:Shabbat - Parshat Ekev
DESCRIPTION:FRIDAY NIGHT \nCandles 6:38 PM \nMincha 7:03 PM \nFollowed by Carlebach Style Kabalat Shabbat & Ma’ariv \n  \nSHABBAT MORNING \nPre-Shacharit Shiur 8 AM \nShacharit 8:45 AM \nKid’s Service 10:15 AM \nGuest Speaker\, Rabbi Shimshon Jacob 10:30 AM \nKiddush: 11 AM
URL:https://shirhadashjerusalem.com/event/shabbat-parshat-ekev/
CATEGORIES:Our Events
ATTACH;FMTTYPE=image/jpeg:https://shirhadashjerusalem.com/wp-content/uploads/2019/08/shimshon.jpg
END:VEVENT
BEGIN:VEVENT
DTSTART;TZID=Asia/Jerusalem:20190817T080000
DTEND;TZID=Asia/Jerusalem:20190817T170000
DTSTAMP:20260424T003928
CREATED:20190804T202614Z
LAST-MODIFIED:20190811T140254Z
UID:1460-1566028800-1566061200@shirhadashjerusalem.com
SUMMARY:Shabbat Schedule - Va'Etchanan
DESCRIPTION:FRIDAY NIGHT \nCandles 6:45 PM \nUnlike previously announced\, there is Friday night tephillot tonight! \nMincha 7:10 PM\, followed by Kabalat Shabbat and Maariv \n  \nSHABBAT MORNING \nPre-Shacharit Shiur 8 AM \nShacharit 8:45 AM \nGuest D’var Torah: Rabbi Avraham Aryeh Trugman \nKid’s Service 10:15 AM \nKiddush\, Sponsored by Ann Young Saban\, in commemoration of the Yahrzeit of her father\, Stuart: 11 AM
URL:https://shirhadashjerusalem.com/event/shabbat-schedule-vaetchanan/
CATEGORIES:Our Events
ATTACH;FMTTYPE=image/jpeg:https://shirhadashjerusalem.com/wp-content/uploads/2019/08/rabbitrugman-e1565534643587.jpg
END:VEVENT
BEGIN:VEVENT
DTSTART;VALUE=DATE:20190810
DTEND;VALUE=DATE:20190811
DTSTAMP:20260424T003928
CREATED:20190804T135119Z
LAST-MODIFIED:20190804T200738Z
UID:1378-1565395200-1565481599@shirhadashjerusalem.com
SUMMARY:Shabbat Schedule - Devarim
DESCRIPTION:Each and every Shabbat is a celebration at Shir Hadash.  Our schedule this Shabbat includes: \nFRIDAY AFTERNOON \nCandles: 6:52 PM \nMincha: 25 Minutes after candle-lighting time \nCarlebach Style Kabalat Shabbat: 10 Minutes after Mincha\, followed by Ma’ariv \nSHABBAT MORNING \nPre-Shacharit Shiur: 8 AM (Abrams Beit Midrash) \nShacharit: 8:45 AM (Henoch Hall) \nLate Minyan: 9:30 AM (Pear Educational Loft) \nKid’s Service: 10:15 AM (Miklat) \nKiddush 11 AM (Orenstein Terrace)
URL:https://shirhadashjerusalem.com/event/basicshabbatschedule-2/
LOCATION:shir hadash\, Yakov Rubin #1\, jerusalem\, Jerusalem\, 93111\, Israel
CATEGORIES:Our Events
ATTACH;FMTTYPE=image/jpeg:https://shirhadashjerusalem.com/wp-content/uploads/2017/01/shabbat.jpg
ORGANIZER;CN="shir hadash":MAILTO:shirhadash613@gmail.com
END:VEVENT
BEGIN:VEVENT
DTSTART;TZID=Asia/Jerusalem:20190808T080000
DTEND;TZID=Asia/Jerusalem:20190808T170000
DTSTAMP:20260424T003928
CREATED:20191014T142708Z
LAST-MODIFIED:20190808T142919Z
UID:1656-1565251200-1565283600@shirhadashjerusalem.com
SUMMARY:Sukkot First Day
DESCRIPTION:Shacharit 8:45 AM \nHallel 9:20 AM \nSpecial Guest Leiner: Fred Samuels \nKid’s Service 10:15 AM \nKiddush 11:15 AM\, Sponsored by Bob and Susan Kohlhagen
URL:https://shirhadashjerusalem.com/event/sukkot-first-day/
CATEGORIES:Our Events
ATTACH;FMTTYPE=image/jpeg:https://shirhadashjerusalem.com/wp-content/uploads/2019/08/sukkot.jpg
END:VEVENT
BEGIN:VEVENT
DTSTART;TZID=Asia/Jerusalem:20190804T090000
DTEND;TZID=Asia/Jerusalem:20190804T100000
DTSTAMP:20260424T003928
CREATED:20190804T202144Z
LAST-MODIFIED:20190804T203118Z
UID:1458-1564909200-1564912800@shirhadashjerusalem.com
SUMMARY:Daf Yomi All Month 9:05 AM
DESCRIPTION:
URL:https://shirhadashjerusalem.com/event/daf-yomi-all-week-905-am/
END:VEVENT
BEGIN:VEVENT
DTSTART;TZID=Asia/Jerusalem:20190804T081500
DTEND;TZID=Asia/Jerusalem:20190804T090000
DTSTAMP:20260424T003928
CREATED:20190804T202001Z
LAST-MODIFIED:20190804T203129Z
UID:1456-1564906500-1564909200@shirhadashjerusalem.com
SUMMARY:Shacharit All Month 8:15 AM
DESCRIPTION:
URL:https://shirhadashjerusalem.com/event/shacharit-all-week-815-am/
END:VEVENT
END:VCALENDAR