BEGIN:VCALENDAR
VERSION:2.0
PRODID:-//Shir Hadash - ECPv6.15.20//NONSGML v1.0//EN
CALSCALE:GREGORIAN
METHOD:PUBLISH
X-ORIGINAL-URL:https://shirhadashjerusalem.com
X-WR-CALDESC:Events for Shir Hadash
REFRESH-INTERVAL;VALUE=DURATION:PT1H
X-Robots-Tag:noindex
X-PUBLISHED-TTL:PT1H
BEGIN:VTIMEZONE
TZID:Asia/Jerusalem
BEGIN:DAYLIGHT
TZOFFSETFROM:+0200
TZOFFSETTO:+0300
TZNAME:IDT
DTSTART:20210326T000000
END:DAYLIGHT
BEGIN:STANDARD
TZOFFSETFROM:+0300
TZOFFSETTO:+0200
TZNAME:IST
DTSTART:20211030T230000
END:STANDARD
BEGIN:DAYLIGHT
TZOFFSETFROM:+0200
TZOFFSETTO:+0300
TZNAME:IDT
DTSTART:20220325T000000
END:DAYLIGHT
BEGIN:STANDARD
TZOFFSETFROM:+0300
TZOFFSETTO:+0200
TZNAME:IST
DTSTART:20221029T230000
END:STANDARD
BEGIN:DAYLIGHT
TZOFFSETFROM:+0200
TZOFFSETTO:+0300
TZNAME:IDT
DTSTART:20230324T000000
END:DAYLIGHT
BEGIN:STANDARD
TZOFFSETFROM:+0300
TZOFFSETTO:+0200
TZNAME:IST
DTSTART:20231028T230000
END:STANDARD
BEGIN:DAYLIGHT
TZOFFSETFROM:+0200
TZOFFSETTO:+0300
TZNAME:IDT
DTSTART:20240329T000000
END:DAYLIGHT
BEGIN:STANDARD
TZOFFSETFROM:+0300
TZOFFSETTO:+0200
TZNAME:IST
DTSTART:20241026T230000
END:STANDARD
END:VTIMEZONE
BEGIN:VEVENT
DTSTART;TZID=Asia/Jerusalem:20221014T173300
DTEND;TZID=Asia/Jerusalem:20221015T184300
DTSTAMP:20260424T004213
CREATED:20220918T084924Z
LAST-MODIFIED:20221007T071150Z
UID:3769-1665768780-1665859380@shirhadashjerusalem.com
SUMMARY:שבת חוה"מ סוכות
DESCRIPTION:SHABBAT CHOL HA’MOED \n\n\n\nCandles 5:33 PM \n\n\n\nMincha 5:58 PM \n\n\n\nFollowed by Kabalat Shabbat and Ma’ariv \n\n\n\nShacharit 8:45 AM \n\n\n\nKid’s Service 10:15 AM \n\n\n\nKiddush 11:15 AM \n\n\n\nShabbat Ends 6:43 PM \n\n\n\nHoshana Raba (Sunday) 8:15 AM \n\n\n\nThe kiddush on Shabbat Chol Ha’Moed is sponsored by Josh and Leah Wisotsky.
URL:https://shirhadashjerusalem.com/event/%d7%a9%d7%91%d7%aa-%d7%97%d7%95%d7%94%d7%9e-%d7%a1%d7%95%d7%9b%d7%95%d7%aa/
CATEGORIES:Our Events,Special,Upcoming Events
ATTACH;FMTTYPE=image/jpeg:https://shirhadashjerusalem.com/wp-content/uploads/2019/08/sukkot.jpg
END:VEVENT
BEGIN:VEVENT
DTSTART;TZID=Asia/Jerusalem:20221016T173300
DTEND;TZID=Asia/Jerusalem:20221017T184100
DTSTAMP:20260424T004213
CREATED:20221007T070622Z
LAST-MODIFIED:20221007T070626Z
UID:3789-1665941580-1666032060@shirhadashjerusalem.com
SUMMARY:Shmini Atzeret - Simchat Torah
DESCRIPTION:SHMINI ATZERET – SIMCHAT TORAH \n\n\n\nShmini Atzeret / Simchat Torah starts Sunday night\, October 16. As always\, we anticipate spirited singing and dancing along with great refreshments\, this time along with students from the Amudim Midrasha as well the return of tourists to Jerusalem.   \n\n\n\nThe schedule is as follows: \n\n\n\nSUNDAY NIGHT \n\n\n\nCandles 5:30 PM \n\n\n\nMincha 5:55 PM \n\n\n\nAuction of Aliyot for Next Day 6:05 PM \n\n\n\nFollowed by Ma’ariv\, Kiddush and then Hakafot & Torah Reading \n\n\n\nFor nighttime refreshments\, we are soliciting co-sponsors; if interested\, e-mail shirhadash613@gmail.com. So far\, we wish to thank David Mark Fishel for joining this endeavor. \n\n\n\nThank you once again to Naftali and Jenny Sternlicht for sponsoring and distributing the treats for our children during Simchat Torah. As in years’ past\, these will be distributed to the children during a special hakafa (the 6th one) both at the nighttime and daytime tephillot. \n\n\n\nMONDAY MORNING \n\n\n\nShacharit 8:30 AM  Please Note Earlier Time \n\n\n\nHakafot 9:30 AM \n\n\n\nTorah Reading 10:45 AM \n\n\n\nYizkor & Musaf 11:45 AM \n\n\n\nFor the daytime kiddush we are also soliciting co-sponsors. Let us know if you’d like to join in. Thank you to Josh and Leah Wisotsky for already participating. \n\n\n\nChag Ends 6:41 PM
URL:https://shirhadashjerusalem.com/event/shmini-atzeret-simchat-torah/
END:VEVENT
BEGIN:VEVENT
DTSTART;TZID=Asia/Jerusalem:20221021T172500
DTEND;TZID=Asia/Jerusalem:20221022T183600
DTSTAMP:20260424T004213
CREATED:20220918T102030Z
LAST-MODIFIED:20220918T102031Z
UID:3771-1666373100-1666463760@shirhadashjerusalem.com
SUMMARY:פרשת בראשית
DESCRIPTION:Friday Night: Candles 5:25 pmMincha 25 minutes after Candles\, Followed by Kabalat Shabbat and Maariv ///  \n\n\n\nShabbat Morning:  \n\n\n\nParsha Shiur 8 AM \n\n\n\nShacharit 8:45 AM \n\n\n\nKid’s Service 10:15 AM  \n\n\n\nD’var Torah 10:20 AM  \n\n\n\nKiddush 11 AM
URL:https://shirhadashjerusalem.com/event/%d7%a4%d7%a8%d7%a9%d7%aa-%d7%91%d7%a8%d7%90%d7%a9%d7%99%d7%aa/
CATEGORIES:Our Events,Special,Upcoming Events
ATTACH;FMTTYPE=image/jpeg:https://shirhadashjerusalem.com/wp-content/uploads/2022/09/hqdefault.jpg
END:VEVENT
BEGIN:VEVENT
DTSTART;TZID=Asia/Jerusalem:20221104T080000
DTEND;TZID=Asia/Jerusalem:20221104T170000
DTSTAMP:20260424T004213
CREATED:20221027T094143Z
LAST-MODIFIED:20221027T094250Z
UID:3799-1667548800-1667581200@shirhadashjerusalem.com
SUMMARY:Welcome Guests
DESCRIPTION:We welcome to Kabalat Shabbat services a group of students studying in Israel for the semester as a part of the BYU campus in Jerusalem.
URL:https://shirhadashjerusalem.com/event/welcome-guests/
CATEGORIES:Our Events,Special,Upcoming Events
ATTACH;FMTTYPE=image/jpeg:https://shirhadashjerusalem.com/wp-content/uploads/2022/10/byu-students.jpg
END:VEVENT
BEGIN:VEVENT
DTSTART;TZID=Asia/Jerusalem:20221104T161200
DTEND;TZID=Asia/Jerusalem:20221105T172300
DTSTAMP:20260424T004213
CREATED:20221027T100229Z
LAST-MODIFIED:20221027T100335Z
UID:3802-1667578320-1667668980@shirhadashjerusalem.com
SUMMARY:שבת לך לך
DESCRIPTION:Shabbat Schedule for Parshat Lech Lecha: Candles 4:12 PM / Mincha 5:37 PM / Welcome Guests for Kabalat Shabbat / Pre-Shacharit Shiur w/ R. Aaron Poston 8 AM / Shacharit 8:45 AM / Kid’s Service 10:15 AM / Kiddush 11 AM \n\n\n\n \n\n\n\nThe Kiddush is sponsored by Steven Antosofsky. \n\n\n\nShabbat Ends 5:23 PM
URL:https://shirhadashjerusalem.com/event/%d7%a9%d7%91%d7%aa-%d7%9c%d7%9a-%d7%9c%d7%9a/
CATEGORIES:Our Events,Special,Upcoming Events
ATTACH;FMTTYPE=image/jpeg:https://shirhadashjerusalem.com/wp-content/uploads/2022/10/steve-antosofsky.jpg
END:VEVENT
BEGIN:VEVENT
DTSTART;TZID=Asia/Jerusalem:20221110T080000
DTEND;TZID=Asia/Jerusalem:20221110T170000
DTSTAMP:20260424T004213
CREATED:20221027T100507Z
LAST-MODIFIED:20221027T100514Z
UID:3805-1668067200-1668099600@shirhadashjerusalem.com
SUMMARY:Olive Harvest
DESCRIPTION:Join us at the Jonathan Pear Educational Farm outside of Rosh Pina for harvesting this year’s olive production.  E-mail shirhadash613@gmail.com for more information.
URL:https://shirhadashjerusalem.com/event/olive-harvest/
CATEGORIES:Our Events,Special,Upcoming Events
ATTACH;FMTTYPE=image/jpeg:https://shirhadashjerusalem.com/wp-content/uploads/2020/12/olive-groves-tsvi.jpg
END:VEVENT
BEGIN:VEVENT
DTSTART;TZID=Asia/Jerusalem:20221111T160700
DTEND;TZID=Asia/Jerusalem:20221112T171900
DTSTAMP:20260424T004213
CREATED:20221027T100940Z
LAST-MODIFIED:20221027T101046Z
UID:3807-1668182820-1668273540@shirhadashjerusalem.com
SUMMARY:וירא
DESCRIPTION:Candles 4:07 PM / Mincha 4:32 PM / Pre-Shacharit Shiur w/ Rabbi Robert Rhodes 8 AM / Shacharit 8:45 AM / Kid’s Service 10:15 AM / Kiddush 11 AM \n\n\n\nThe kiddush is sponsored by Michael and Brandy Snyder.
URL:https://shirhadashjerusalem.com/event/%d7%95%d7%99%d7%a8%d7%90/
CATEGORIES:Our Events,Special,Upcoming Events
ATTACH;FMTTYPE=image/jpeg:https://shirhadashjerusalem.com/wp-content/uploads/2022/10/michael-and-brandy-snyder.jpg
END:VEVENT
BEGIN:VEVENT
DTSTART;TZID=Asia/Jerusalem:20221113T080000
DTEND;TZID=Asia/Jerusalem:20221117T171500
DTSTAMP:20260424T004213
CREATED:20221027T093346Z
LAST-MODIFIED:20221113T081208Z
UID:3796-1668326400-1668705300@shirhadashjerusalem.com
SUMMARY:Daily Tephillot
DESCRIPTION:Daily Shacharit 8:15 AM \n\n\n\nDaily Mincha 4:30 PM \n\n\n\nDaily Maariv 5:02 PM
URL:https://shirhadashjerusalem.com/event/daily-tephillot/
CATEGORIES:Our Events,Special,Upcoming Events
ATTACH;FMTTYPE=image/jpeg:https://shirhadashjerusalem.com/wp-content/uploads/2022/10/morningminyan.jpg
END:VEVENT
BEGIN:VEVENT
DTSTART;TZID=Asia/Jerusalem:20221113T090000
DTEND;TZID=Asia/Jerusalem:20221118T220000
DTSTAMP:20260424T004213
CREATED:20221113T085754Z
LAST-MODIFIED:20221114T084552Z
UID:3825-1668330000-1668808800@shirhadashjerusalem.com
SUMMARY:Daf Yomi
DESCRIPTION:
URL:https://shirhadashjerusalem.com/event/daf-yomi-4/
CATEGORIES:Upcoming Events
ATTACH;FMTTYPE=image/jpeg:https://shirhadashjerusalem.com/wp-content/uploads/2019/10/dafyomi.jpg
END:VEVENT
BEGIN:VEVENT
DTSTART;TZID=Asia/Jerusalem:20221114T103000
DTEND;TZID=Asia/Jerusalem:20221114T233000
DTSTAMP:20260424T004213
CREATED:20221113T083750Z
LAST-MODIFIED:20221113T083755Z
UID:3822-1668421800-1668468600@shirhadashjerusalem.com
SUMMARY:19 Letters
DESCRIPTION:Learn Rabbis Shimshon Rafael Hirsh’s famous work with Peta Pellach.  Weekly on Mondays at 10:30 AM
URL:https://shirhadashjerusalem.com/event/19-letters/
CATEGORIES:Our Events,Special,Upcoming Events
ATTACH;FMTTYPE=image/jpeg:https://shirhadashjerusalem.com/wp-content/uploads/2022/11/19.jpg
END:VEVENT
BEGIN:VEVENT
DTSTART;TZID=Asia/Jerusalem:20221114T190000
DTEND;TZID=Asia/Jerusalem:20221114T220000
DTSTAMP:20260424T004213
CREATED:20221027T104117Z
LAST-MODIFIED:20221027T104154Z
UID:3811-1668452400-1668463200@shirhadashjerusalem.com
SUMMARY:Blood Drive & Shiur
DESCRIPTION:
URL:https://shirhadashjerusalem.com/event/blood-drive-shiur/
CATEGORIES:Our Events,Special,Upcoming Events
ATTACH;FMTTYPE=image/jpeg:https://shirhadashjerusalem.com/wp-content/uploads/2022/10/qtq80-LlEwp7.jpeg
END:VEVENT
BEGIN:VEVENT
DTSTART;TZID=Asia/Jerusalem:20221118T160700
DTEND;TZID=Asia/Jerusalem:20221119T171300
DTSTAMP:20260424T004213
CREATED:20221114T082002Z
LAST-MODIFIED:20221114T082007Z
UID:3836-1668787620-1668877980@shirhadashjerusalem.com
SUMMARY:Chayai Sara
DESCRIPTION:Friday Night\n\n\n\nCandles 4:07 PM / Mincha 4:32 PM / Following Services we welcome participants in the JIC young professionals Shabbat dinner (for details and registration\, see separate flyer). \n\n\n\nShabbat Morning\n\n\n\nParsha Shiur 8 AM / Shacharit 8:45 AM / Kid’s Service w/ Rabbanit Atira Ote 10:15 AM / Kiddush 11 AM \n\n\n\nGuest Speaker\n\n\n\nWe welcome to shul this Shabbat morning Former MK Rabbi Dov Lipman.  He will offer the d’var Torah before Musaf (as well as give the talk during the Friday night Young Professionals’ dinner).
URL:https://shirhadashjerusalem.com/event/chayai-sara/
CATEGORIES:Our Events,Special,Upcoming Events
ATTACH;FMTTYPE=image/jpeg:https://shirhadashjerusalem.com/wp-content/uploads/2022/11/dov-lipman.jpg
END:VEVENT
BEGIN:VEVENT
DTSTART;TZID=Asia/Jerusalem:20221118T180000
DTEND;TZID=Asia/Jerusalem:20221118T220000
DTSTAMP:20260424T004213
CREATED:20221027T104724Z
LAST-MODIFIED:20221113T090814Z
UID:3814-1668794400-1668808800@shirhadashjerusalem.com
SUMMARY:JIC Singles Dinner
DESCRIPTION:
URL:https://shirhadashjerusalem.com/event/jic-singles-dinner/
CATEGORIES:Our Events,Special,Upcoming Events
ATTACH;FMTTYPE=image/jpeg:https://shirhadashjerusalem.com/wp-content/uploads/2022/10/WhatsApp-Image-2022-11-10-at-08.34.17.jpeg
END:VEVENT
BEGIN:VEVENT
DTSTART;TZID=Asia/Jerusalem:20221120T081500
DTEND;TZID=Asia/Jerusalem:20221124T170000
DTSTAMP:20260424T004213
CREATED:20221113T090249Z
LAST-MODIFIED:20221113T090254Z
UID:3829-1668932100-1669309200@shirhadashjerusalem.com
SUMMARY:Weekly Tephillot
DESCRIPTION:Shacharit 8:15 AM \n\n\n\nMincha 4:27 PM \n\n\n\nMaariv 5:00 PM
URL:https://shirhadashjerusalem.com/event/weekly-tephillot/
ATTACH;FMTTYPE=image/jpeg:https://shirhadashjerusalem.com/wp-content/uploads/2022/10/morningminyan.jpg
END:VEVENT
BEGIN:VEVENT
DTSTART;TZID=Asia/Jerusalem:20221120T090000
DTEND;TZID=Asia/Jerusalem:20221125T220000
DTSTAMP:20260424T004213
CREATED:20221113T090007Z
LAST-MODIFIED:20221113T090012Z
UID:3827-1668934800-1669413600@shirhadashjerusalem.com
SUMMARY:Daf Yomi
DESCRIPTION:
URL:https://shirhadashjerusalem.com/event/daf-yomi-5/
CATEGORIES:Upcoming Events
ATTACH;FMTTYPE=image/jpeg:https://shirhadashjerusalem.com/wp-content/uploads/2019/10/dafyomi.jpg
END:VEVENT
BEGIN:VEVENT
DTSTART;TZID=Asia/Jerusalem:20221120T103000
DTEND;TZID=Asia/Jerusalem:20221120T113000
DTSTAMP:20260424T004213
CREATED:20221113T083340Z
LAST-MODIFIED:20221113T083345Z
UID:3820-1668940200-1668943800@shirhadashjerusalem.com
SUMMARY:Parsha Plus
DESCRIPTION:Learn with Peta Pellach weekly at 10:30 AM.
URL:https://shirhadashjerusalem.com/event/parsha-plus-10/
CATEGORIES:Our Events,Special,Upcoming Events
ATTACH;FMTTYPE=image/jpeg:https://shirhadashjerusalem.com/wp-content/uploads/2019/10/peta.jpg
END:VEVENT
BEGIN:VEVENT
DTSTART;TZID=Asia/Jerusalem:20221121T103000
DTEND;TZID=Asia/Jerusalem:20221121T233000
DTSTAMP:20260424T004213
CREATED:20221113T090614Z
LAST-MODIFIED:20221113T090618Z
UID:3831-1669026600-1669073400@shirhadashjerusalem.com
SUMMARY:Nineteen Letters
DESCRIPTION:Learn Rabbi Shimshon Rafael Hirsh’s masterful work\, the 19 Letters\, every Monday morning with Peta Pellach.
URL:https://shirhadashjerusalem.com/event/nineteen-letters/
CATEGORIES:Our Events,Special,Upcoming Events
ATTACH;FMTTYPE=image/jpeg:https://shirhadashjerusalem.com/wp-content/uploads/2022/11/nineteen-letters.jpg
END:VEVENT
BEGIN:VEVENT
DTSTART;TZID=Asia/Jerusalem:20221123T200000
DTEND;TZID=Asia/Jerusalem:20221123T210000
DTSTAMP:20260424T004213
CREATED:20221116T081533Z
LAST-MODIFIED:20221116T081538Z
UID:3846-1669233600-1669237200@shirhadashjerusalem.com
SUMMARY:Rabbi Dr. Benjamin Samuels Science and Religion Lecture
DESCRIPTION:How Advances in Science Change Halakhah: Assisted Reproductive Technologies (ART) and the Redefinition of Parenthood \n\n\n\nTo view the source sheet for this lecture\, click here: \n\n\n\nThis lecture is part of our Sinai and Synapses series of programs exploring science and religion in Synagogues.
URL:https://shirhadashjerusalem.com/event/rabbi-dr-benjamin-samuels-science-and-religion-lecture/
CATEGORIES:Our Events,Special,Upcoming Events
ATTACH;FMTTYPE=image/jpeg:https://shirhadashjerusalem.com/wp-content/uploads/2022/11/RBS-headshot-short.jpg
END:VEVENT
BEGIN:VEVENT
DTSTART;TZID=Asia/Jerusalem:20221125T080000
DTEND;TZID=Asia/Jerusalem:20221125T090000
DTSTAMP:20260424T004213
CREATED:20221121T083100Z
LAST-MODIFIED:20221121T083102Z
UID:3859-1669363200-1669366800@shirhadashjerusalem.com
SUMMARY:Musical Hallel
DESCRIPTION:Celebrate Rosh Chodesh Kislev with a musical hallel as part of our normal Shacharit service Friday morning.  Led by Anders Nierman of Etrog Jam.
URL:https://shirhadashjerusalem.com/event/musical-hallel/
CATEGORIES:Our Events,Special,Upcoming Events
ATTACH;FMTTYPE=image/jpeg:https://shirhadashjerusalem.com/wp-content/uploads/2022/11/anders.jpg
END:VEVENT
BEGIN:VEVENT
DTSTART;TZID=Asia/Jerusalem:20221125T160000
DTEND;TZID=Asia/Jerusalem:20221126T171400
DTSTAMP:20260424T004213
CREATED:20221121T082035Z
LAST-MODIFIED:20221121T082037Z
UID:3853-1669392000-1669482840@shirhadashjerusalem.com
SUMMARY:Toldot
DESCRIPTION:Friday Night\n\n\n\nCandles 4:00 PM / Mincha 4:25 PM \n\n\n\n\n\n\n\nShabbat Day\n\n\n\nParsha Shiur 8 AM / Shacharit 8:45 AM / Kid’s Service 10:15 AM / Kiddush 11 AM \n\n\n\n\n\n\n\nWe welcome Rabbi Jeffrey Saks\, editor of Tradition Magazine and Director of Research at the Agnon House\, as well as Director of ATID and the WebYeshiva\, to shul Shabbat morning.  He will deliver the d’var Torah before Musaf. \n\n\n\n\n\n\n\nThe Kiddush on Shabbat is sponsored by Leon and Elaine Genesove\, in memory of Leon’s beloved mother\, Slava bat Chaim ז’ל\, Celia Genesove; and in memory of Tzvi ben Yaakov Yehuda HaCohen זצ’ל\, Tzvi Bernstein\, beloved father of Malka Genesove
URL:https://shirhadashjerusalem.com/event/toldot-3/
CATEGORIES:Our Events,Special,Upcoming Events
ATTACH;FMTTYPE=image/jpeg:https://shirhadashjerusalem.com/wp-content/uploads/2022/11/jeffrey-saks.jpg
END:VEVENT
BEGIN:VEVENT
DTSTART;TZID=Asia/Jerusalem:20221126T200000
DTEND;TZID=Asia/Jerusalem:20221126T210000
DTSTAMP:20260424T004213
CREATED:20221121T082912Z
LAST-MODIFIED:20221121T082914Z
UID:3855-1669492800-1669496400@shirhadashjerusalem.com
SUMMARY:Melava Malka
DESCRIPTION:We are excited to host a melava malka led by brothers Shlomo and Naftali Abramson – dedicated to welcoming new olim into the community but open to all.
URL:https://shirhadashjerusalem.com/event/melava-malka/
CATEGORIES:Our Events,Special,Upcoming Events
ATTACH;FMTTYPE=image/jpeg:https://shirhadashjerusalem.com/wp-content/uploads/2022/11/MELAVA-MALKA-ABRAMSON.jpg
END:VEVENT
BEGIN:VEVENT
DTSTART;TZID=Asia/Jerusalem:20221127T080000
DTEND;TZID=Asia/Jerusalem:20221215T170000
DTSTAMP:20260424T004213
CREATED:20221121T122530Z
LAST-MODIFIED:20221121T122531Z
UID:3862-1669536000-1671123600@shirhadashjerusalem.com
SUMMARY:Weekday Tephillot Schedule
DESCRIPTION:Shacharit 8:15 AM // \n\n\n\nMincha/Maariv Times are the same for this entire 4 week period: Mincha 4:25 PM / Shiur / Maariv 4:57 PM
URL:https://shirhadashjerusalem.com/event/weekday-tephillot-schedule/
CATEGORIES:Our Events
ATTACH;FMTTYPE=image/jpeg:https://shirhadashjerusalem.com/wp-content/uploads/2022/10/morningminyan.jpg
END:VEVENT
BEGIN:VEVENT
DTSTART;TZID=Asia/Jerusalem:20221127T080000
DTEND;TZID=Asia/Jerusalem:20221223T170000
DTSTAMP:20260424T004213
CREATED:20221121T123216Z
LAST-MODIFIED:20221121T123218Z
UID:3864-1669536000-1671814800@shirhadashjerusalem.com
SUMMARY:Daf Yomi
DESCRIPTION:Shir Hadash offers two Daf Yomi Programs.  /  Daf Yomi Bavli meets Sunday – Friday mornings at 9 AM\, right after daily Shacharit (at 8:15 AM).  / A special Daf Yomi Yerushalmi meets Mondays\, Wednesdays and Thursdays right after the regular daf yomi – at approximately 10 AM.
URL:https://shirhadashjerusalem.com/event/daf-yomi-6/
CATEGORIES:Our Events,Special,Upcoming Events
ATTACH;FMTTYPE=image/jpeg:https://shirhadashjerusalem.com/wp-content/uploads/2019/10/dafyomi.jpg
END:VEVENT
BEGIN:VEVENT
DTSTART;TZID=Asia/Jerusalem:20221127T100000
DTEND;TZID=Asia/Jerusalem:20221127T110000
DTSTAMP:20260424T004213
CREATED:20221121T081155Z
LAST-MODIFIED:20221121T081157Z
UID:3851-1669543200-1669546800@shirhadashjerusalem.com
SUMMARY:Daf Yomi Yerushalmi
DESCRIPTION:Each week – on Mondays\, Wednesdays and Thursdays – following our Daf Yomi (Bavli) class\, a unique study of the Yerushalmi Talmud is offered by Rabbi Dov Kidron. Our study of Yerushalmi roughly parallels the Bavli Daf Yomi\, so joining this class provides an excellent prism through which to explore the differences between these two great works.
URL:https://shirhadashjerusalem.com/event/daf-yomi-yerushalmi/
CATEGORIES:Our Events,Special,Upcoming Events
ATTACH;FMTTYPE=image/jpeg:https://shirhadashjerusalem.com/wp-content/uploads/2021/01/dov-kidron-2-e1610459098802.jpg
END:VEVENT
BEGIN:VEVENT
DTSTART;TZID=Asia/Jerusalem:20221209T080000
DTEND;TZID=Asia/Jerusalem:20221209T170000
DTSTAMP:20260424T004213
CREATED:20221122T100033Z
LAST-MODIFIED:20221122T100035Z
UID:3866-1670572800-1670605200@shirhadashjerusalem.com
SUMMARY:Welcome African American Leadership Delegation
DESCRIPTION:We are honored to welcome an America Israel Friendship League Mission Friday night and host this special group for Shabbat dinner.
URL:https://shirhadashjerusalem.com/event/welcome-african-american-leadership-delegation/
CATEGORIES:Our Events,Special,Upcoming Events
ATTACH;FMTTYPE=image/jpeg:https://shirhadashjerusalem.com/wp-content/uploads/2022/11/aifl.jpg
END:VEVENT
BEGIN:VEVENT
DTSTART;TZID=Asia/Jerusalem:20230404T080000
DTEND;TZID=Asia/Jerusalem:20230412T170000
DTSTAMP:20260424T004213
CREATED:20230404T080322Z
LAST-MODIFIED:20230404T080324Z
UID:3880-1680595200-1681318800@shirhadashjerusalem.com
SUMMARY:PESACH - פסח
DESCRIPTION:Enjoy a full schedule of Passover tephillot at Shir Hadash\, including two Musical Hallel’s on the first and last days of Chol HaMoed.  For full details\, click here.
URL:https://shirhadashjerusalem.com/event/pesach-%d7%a4%d7%a1%d7%97/
CATEGORIES:Our Events,Special,Upcoming Events
ATTACH;FMTTYPE=image/jpeg:https://shirhadashjerusalem.com/wp-content/uploads/2023/04/passover-wishes-jpg.jpg
END:VEVENT
BEGIN:VEVENT
DTSTART;TZID=Asia/Jerusalem:20230519T080000
DTEND;TZID=Asia/Jerusalem:20230519T170000
DTSTAMP:20260424T004213
CREATED:20230404T081524Z
LAST-MODIFIED:20230404T081526Z
UID:3883-1684483200-1684515600@shirhadashjerusalem.com
SUMMARY:Welcome Marty Pear Israel Fellows
DESCRIPTION:We welcome the first cohort of the Marty Pear Israel Fellows – a program dedicated to nurture JCC Professionals’ relationship with Israel – to shul and dinner this Shabbat.  To learn more about this program established in memory of our Rabbi’s father\, a life-long JCC Professional himself\, click here.
URL:https://shirhadashjerusalem.com/event/welcome-marty-pear-israel-fellows/
CATEGORIES:Our Events,Special,Upcoming Events
ATTACH;FMTTYPE=image/jpeg:https://shirhadashjerusalem.com/wp-content/uploads/2023/04/Martin-Pear-left-and-colleagues-in-Israel-first-visit-520x600-1.jpg
END:VEVENT
BEGIN:VEVENT
DTSTART;TZID=Asia/Jerusalem:20230519T080000
DTEND;TZID=Asia/Jerusalem:20230520T170000
DTSTAMP:20260424T004213
CREATED:20230515T082629Z
LAST-MODIFIED:20230515T082631Z
UID:3907-1684483200-1684602000@shirhadashjerusalem.com
SUMMARY:Yom Yerushalayim Celebrations
DESCRIPTION:Join us at Shir Hadash (and the Pear home) for a variety of events to celebrate Yerushalayim. \n\n\n\nMusical Hallel w/ Naftali Abramson\, followed by breakfast – Friday morning at 8:15 AM at Shir Hadash \n\n\n\nSushi Reception\, followed by Mincha and Kabalat Shabbat w/ Naftali Abramson – Friday night at 7 PM at Shir Hadash \n\n\n\nShabbat Morning tephillot w/ Naftali Abramson – Shacharit at 8:45 AM\, followed by Kiddush at 11 AM\, and special class at 11:30 AM. \n\n\n\nSeudat Shlishit at Pear home\, HaPalmach 54/3 – Shabbat afternoon from 6:30 – 7:30 PM \n\n\n\nFor full details\, click here.
URL:https://shirhadashjerusalem.com/event/yom-yerushalayim-celebrations/
CATEGORIES:Our Events,Special,Upcoming Events
END:VEVENT
BEGIN:VEVENT
DTSTART;TZID=Asia/Jerusalem:20230519T080000
DTEND;TZID=Asia/Jerusalem:20230519T170000
DTSTAMP:20260424T004213
CREATED:20230516T122350Z
LAST-MODIFIED:20230516T122352Z
UID:3911-1684483200-1684515600@shirhadashjerusalem.com
SUMMARY:Welcome BYU Jerusalem Students
DESCRIPTION:Shir Hadash welcomes students studying for the semester at the BYU Jerusalem to Friday night Kabalat Shabbat.  Prior to the tephillot\, the students will be introduced to the concept of Shabbat in general by Rabbi Pear and then continue their learning with Ophir Yarden.  Come and welcome these friends of Israel by joining us for a spirited dovening this Shabbat. \n\n\n\nCandles 6:56 PM \n\n\n\nSushi Reception 7 PM \n\n\n\nMincha 7:20 PM \n\n\n\nKabalat Shabbat 7:30 PM Led by Naftali Abramson
URL:https://shirhadashjerusalem.com/event/welcome-byu-jerusalem-students/
CATEGORIES:Our Events,Special,Upcoming Events
ATTACH;FMTTYPE=image/jpeg:https://shirhadashjerusalem.com/wp-content/uploads/2023/05/byu-students.jpg
END:VEVENT
BEGIN:VEVENT
DTSTART;TZID=Asia/Jerusalem:20230519T081500
DTEND;TZID=Asia/Jerusalem:20230519T100000
DTSTAMP:20260424T004213
CREATED:20230512T091627Z
LAST-MODIFIED:20230512T092039Z
UID:3902-1684484100-1684490400@shirhadashjerusalem.com
SUMMARY:Yom Yerushalayim Tephilla Chagigi
DESCRIPTION:Join us for a celebratory musical Hallel led by the amazing Naftali Abramson. Following tephillot\, all are invited to a light breakfast in honor of Yom Yerushalayim. \n\n\n\nFor a full schedule of Yom Yerushalayim events\, click here:
URL:https://shirhadashjerusalem.com/event/yom-yerushalayim-tephilla-chagigi/
CATEGORIES:Our Events,Special,Upcoming Events
ATTACH;FMTTYPE=image/jpeg:https://shirhadashjerusalem.com/wp-content/uploads/2023/05/naftali.jpg
END:VEVENT
END:VCALENDAR