BEGIN:VCALENDAR
VERSION:2.0
PRODID:-//Shir Hadash - ECPv6.15.20//NONSGML v1.0//EN
CALSCALE:GREGORIAN
METHOD:PUBLISH
X-WR-CALNAME:Shir Hadash
X-ORIGINAL-URL:https://shirhadashjerusalem.com
X-WR-CALDESC:Events for Shir Hadash
REFRESH-INTERVAL;VALUE=DURATION:PT1H
X-Robots-Tag:noindex
X-PUBLISHED-TTL:PT1H
BEGIN:VTIMEZONE
TZID:Asia/Jerusalem
BEGIN:DAYLIGHT
TZOFFSETFROM:+0200
TZOFFSETTO:+0300
TZNAME:IDT
DTSTART:20180323T000000
END:DAYLIGHT
BEGIN:STANDARD
TZOFFSETFROM:+0300
TZOFFSETTO:+0200
TZNAME:IST
DTSTART:20181027T230000
END:STANDARD
BEGIN:DAYLIGHT
TZOFFSETFROM:+0200
TZOFFSETTO:+0300
TZNAME:IDT
DTSTART:20190329T000000
END:DAYLIGHT
BEGIN:STANDARD
TZOFFSETFROM:+0300
TZOFFSETTO:+0200
TZNAME:IST
DTSTART:20191026T230000
END:STANDARD
BEGIN:DAYLIGHT
TZOFFSETFROM:+0200
TZOFFSETTO:+0300
TZNAME:IDT
DTSTART:20200327T000000
END:DAYLIGHT
BEGIN:STANDARD
TZOFFSETFROM:+0300
TZOFFSETTO:+0200
TZNAME:IST
DTSTART:20201024T230000
END:STANDARD
END:VTIMEZONE
BEGIN:VEVENT
DTSTART;TZID=Asia/Jerusalem:20191117T110000
DTEND;TZID=Asia/Jerusalem:20191117T123000
DTSTAMP:20260423T011417
CREATED:20191022T193817Z
LAST-MODIFIED:20191022T193817Z
UID:1849-1573988400-1573993800@shirhadashjerusalem.com
SUMMARY:Parsha Plus
DESCRIPTION:With Peta Pellach\, from 11 AM – 12:30 PM. Meets every Sunday in November.
URL:https://shirhadashjerusalem.com/event/parsha-plus-5-3/
LOCATION:ישראל
CATEGORIES:Upcoming Events
ATTACH;FMTTYPE=image/jpeg:https://shirhadashjerusalem.com/wp-content/uploads/2019/10/peta.jpg
END:VEVENT
BEGIN:VEVENT
DTSTART;VALUE=DATE:20191116
DTEND;VALUE=DATE:20191117
DTSTAMP:20260423T011417
CREATED:20191022T185940Z
LAST-MODIFIED:20191022T191009Z
UID:1815-1573862400-1573948799@shirhadashjerusalem.com
SUMMARY:VaYera
DESCRIPTION:Come celebrate a ‘Shlomo’ Shabbat in commemoration of the Yahrzeit of Rabbi Shlomo Carlebach. \nCandles 4:04 PM \nMincha 4:29 PM \nKabalat Shabbat with special guest ba’al tephilla 4:40 PM \nPre-Shacharit Shiur 8 AM \nShacharit 8:45 AM \nKid’s Service 10:15 AM \nKiddush 11 AM\, sponsored by Preston and Green families \nMincha Gedola 11:50 AM \nShabbat Ends 5:17 PM
URL:https://shirhadashjerusalem.com/event/vayera/
LOCATION:ישראל
CATEGORIES:Our Events,Upcoming Events
ATTACH;FMTTYPE=image/jpeg:https://shirhadashjerusalem.com/wp-content/uploads/2019/10/shlomocarlebach.jpg
END:VEVENT
BEGIN:VEVENT
DTSTART;TZID=Asia/Jerusalem:20191113T200000
DTEND;TZID=Asia/Jerusalem:20191113T210000
DTSTAMP:20260423T011417
CREATED:20191022T194418Z
LAST-MODIFIED:20191022T194418Z
UID:1855-1573675200-1573678800@shirhadashjerusalem.com
SUMMARY:R. Brovender
DESCRIPTION:Come learn parshat hashavua with one of Jerusalem’s premier Torah educators\, Rabbi Chaim Brovender.  The class meets Wednesday nights throughout November from 8 – 9 PM.
URL:https://shirhadashjerusalem.com/event/r-brovender-3-3/
LOCATION:ישראל
CATEGORIES:Upcoming Events
ATTACH;FMTTYPE=image/jpeg:https://shirhadashjerusalem.com/wp-content/uploads/2016/12/rabbibrovender.jpg
END:VEVENT
BEGIN:VEVENT
DTSTART;TZID=Asia/Jerusalem:20191112T113000
DTEND;TZID=Asia/Jerusalem:20191112T123000
DTSTAMP:20260423T011417
CREATED:20191022T192808Z
LAST-MODIFIED:20191022T193107Z
UID:1835-1573558200-1573561800@shirhadashjerusalem.com
SUMMARY:Law & Order
DESCRIPTION:Rabbi Pear’s weekly class exploring the 613 Commandments and the interaction between Jewish law and Israeli law meets at 11:30 AM at the OU Israel Center\, Keren HaYesod 22.  Meets every Tuesday in November.
URL:https://shirhadashjerusalem.com/event/law-order-2/
LOCATION:ישראל
CATEGORIES:Our Events,Upcoming Events
ATTACH;FMTTYPE=image/jpeg:https://shirhadashjerusalem.com/wp-content/uploads/2019/08/613-e1603108368943.jpg
END:VEVENT
BEGIN:VEVENT
DTSTART;TZID=Asia/Jerusalem:20191111T110000
DTEND;TZID=Asia/Jerusalem:20191111T123000
DTSTAMP:20260423T011417
CREATED:20191022T193449Z
LAST-MODIFIED:20191022T193449Z
UID:1841-1573470000-1573475400@shirhadashjerusalem.com
SUMMARY:Great Ideas
DESCRIPTION:With Peta Pellach\, from 11 AM – 12:30 PM. Meets every Monday in November.
URL:https://shirhadashjerusalem.com/event/great-ideas-2/
LOCATION:ישראל
CATEGORIES:Upcoming Events
END:VEVENT
BEGIN:VEVENT
DTSTART;TZID=Asia/Jerusalem:20191110T110000
DTEND;TZID=Asia/Jerusalem:20191110T123000
DTSTAMP:20260423T011417
CREATED:20191022T193739Z
LAST-MODIFIED:20191022T193739Z
UID:1847-1573383600-1573389000@shirhadashjerusalem.com
SUMMARY:Parsha Plus
DESCRIPTION:With Peta Pellach\, from 11 AM – 12:30 PM. Meets every Sunday in November.
URL:https://shirhadashjerusalem.com/event/parsha-plus-5-2/
LOCATION:ישראל
CATEGORIES:Upcoming Events
ATTACH;FMTTYPE=image/jpeg:https://shirhadashjerusalem.com/wp-content/uploads/2019/10/peta.jpg
END:VEVENT
BEGIN:VEVENT
DTSTART;VALUE=DATE:20191109
DTEND;VALUE=DATE:20191110
DTSTAMP:20260423T011417
CREATED:20191022T174458Z
LAST-MODIFIED:20191022T190232Z
UID:1812-1573257600-1573343999@shirhadashjerusalem.com
SUMMARY:Lech Lecha
DESCRIPTION:Candles 4:09 PM \nMincha 4:34 PM \nKabalat Shabbat 4:45 PM \nPre Shacharit Shiur 8 AM \nShacharit 8:45 AM \nKid’s Service 10:15 AM \nKiddush 11 AM\, sponsored by Baruch and Aviva Serenge \nMincha Gedola 11:49 AM \nShabbat Ends 5:21PM
URL:https://shirhadashjerusalem.com/event/lech-lecha/
LOCATION:ישראל
CATEGORIES:Our Events,Upcoming Events
ATTACH;FMTTYPE=image/jpeg:https://shirhadashjerusalem.com/wp-content/uploads/2017/01/shabbat.jpg
END:VEVENT
BEGIN:VEVENT
DTSTART;TZID=Asia/Jerusalem:20191106T200000
DTEND;TZID=Asia/Jerusalem:20191106T210000
DTSTAMP:20260423T011417
CREATED:20191022T194336Z
LAST-MODIFIED:20191022T194336Z
UID:1856-1573070400-1573074000@shirhadashjerusalem.com
SUMMARY:R. Brovender
DESCRIPTION:Come learn parshat hashavua with one of Jerusalem’s premier Torah educators\, Rabbi Chaim Brovender.  The class meets Wednesday nights throughout November from 8 – 9 PM.
URL:https://shirhadashjerusalem.com/event/r-brovender-3-2/
LOCATION:ישראל
CATEGORIES:Upcoming Events
ATTACH;FMTTYPE=image/jpeg:https://shirhadashjerusalem.com/wp-content/uploads/2016/12/rabbibrovender.jpg
END:VEVENT
BEGIN:VEVENT
DTSTART;TZID=Asia/Jerusalem:20191105T113000
DTEND;TZID=Asia/Jerusalem:20191105T123000
DTSTAMP:20260423T011417
CREATED:20191022T192635Z
LAST-MODIFIED:20191022T192635Z
UID:1833-1572953400-1572957000@shirhadashjerusalem.com
SUMMARY:Law & Order
DESCRIPTION:Rabbi Pear’s weekly class exploring the 613 Commandments and the interaction between Jewish law and Israeli law meets at 11:30 AM at the OU Israel Center\, Keren HaYesod 22.  Meets every Tuesday in November.
URL:https://shirhadashjerusalem.com/event/law-order/
LOCATION:ישראל
CATEGORIES:Our Events,Upcoming Events
ATTACH;FMTTYPE=image/jpeg:https://shirhadashjerusalem.com/wp-content/uploads/2019/08/613-e1603108368943.jpg
END:VEVENT
BEGIN:VEVENT
DTSTART;TZID=Asia/Jerusalem:20191104T110000
DTEND;TZID=Asia/Jerusalem:20191104T123000
DTSTAMP:20260423T011417
CREATED:20191022T192238Z
LAST-MODIFIED:20191022T193327Z
UID:1830-1572865200-1572870600@shirhadashjerusalem.com
SUMMARY:Great Ideas
DESCRIPTION:With Peta Pellach\, from 11 AM – 12:30 PM. Meets every Monday in November.
URL:https://shirhadashjerusalem.com/event/great-ideas/
LOCATION:ישראל
CATEGORIES:Upcoming Events
END:VEVENT
BEGIN:VEVENT
DTSTART;TZID=Asia/Jerusalem:20191103T110000
DTEND;TZID=Asia/Jerusalem:20191103T123000
DTSTAMP:20260423T011417
CREATED:20191022T192047Z
LAST-MODIFIED:20191022T192322Z
UID:1828-1572778800-1572784200@shirhadashjerusalem.com
SUMMARY:Parsha Plus
DESCRIPTION:With Peta Pellach\, from 11 AM – 12:30 PM. Meets every Sunday in November.
URL:https://shirhadashjerusalem.com/event/parsha-plus-5/
LOCATION:ישראל
CATEGORIES:Upcoming Events
ATTACH;FMTTYPE=image/jpeg:https://shirhadashjerusalem.com/wp-content/uploads/2019/10/peta.jpg
END:VEVENT
BEGIN:VEVENT
DTSTART;TZID=Asia/Jerusalem:20191103T080000
DTEND;TZID=Asia/Jerusalem:20191103T170000
DTSTAMP:20260423T011417
CREATED:20191022T173252Z
LAST-MODIFIED:20191022T194931Z
UID:1807-1572768000-1572800400@shirhadashjerusalem.com
SUMMARY:Shacharit - All Month
DESCRIPTION:Every Morning Sunday through Friday at 8:15 AM.
URL:https://shirhadashjerusalem.com/event/shacharit/
LOCATION:ישראל
CATEGORIES:Upcoming Events
ATTACH;FMTTYPE=image/jpeg:https://shirhadashjerusalem.com/wp-content/uploads/2019/10/sukkot2019.jpg
END:VEVENT
BEGIN:VEVENT
DTSTART;TZID=Asia/Jerusalem:20191103T080000
DTEND;TZID=Asia/Jerusalem:20191103T170000
DTSTAMP:20260423T011417
CREATED:20191022T173134Z
LAST-MODIFIED:20191022T194835Z
UID:1805-1572768000-1572800400@shirhadashjerusalem.com
SUMMARY:Daf Yomi - All Month
DESCRIPTION:Come learn a folio page of Talmud each day with Rabbi Dov Kidron.  Sunday through Friday at 9:05 AM (immediately following our daily morning minyan)
URL:https://shirhadashjerusalem.com/event/daf-yomi/
LOCATION:ישראל
CATEGORIES:Our Events,Upcoming Events
ATTACH;FMTTYPE=image/jpeg:https://shirhadashjerusalem.com/wp-content/uploads/2019/10/dafyomi.jpg
END:VEVENT
BEGIN:VEVENT
DTSTART;VALUE=DATE:20191102
DTEND;VALUE=DATE:20191103
DTSTAMP:20260423T011417
CREATED:20191022T174242Z
LAST-MODIFIED:20191022T190458Z
UID:1810-1572652800-1572739199@shirhadashjerusalem.com
SUMMARY:Noach
DESCRIPTION:Candles 4:14 PM \nMincha 4:39 PM \nKabalat Shabbat 5:04 PM \nPre-Shacharit Shiur 8 AM \nShacharit 8:45 AM \nKid’s Service 10:15 AM \nKiddush 11 AM\, sponsored by Jeremy and Michelle Fisher in celebration of Michelle’s birthday \nMincha Gedola 11:50 AM \nShabbat Ends 5:26 PM
URL:https://shirhadashjerusalem.com/event/noach/
LOCATION:ישראל
CATEGORIES:Our Events,Upcoming Events
ATTACH;FMTTYPE=image/jpeg:https://shirhadashjerusalem.com/wp-content/uploads/2017/01/shabbat.jpg
END:VEVENT
BEGIN:VEVENT
DTSTART;TZID=Asia/Jerusalem:20191030T200000
DTEND;TZID=Asia/Jerusalem:20191030T210000
DTSTAMP:20260423T011417
CREATED:20191002T115433Z
LAST-MODIFIED:20191022T194223Z
UID:1759-1572465600-1572469200@shirhadashjerusalem.com
SUMMARY:R. Brovender
DESCRIPTION:Come learn parshat hashavua with one of Jerusalem’s premier Torah educators\, Rabbi Chaim Brovender.  The class meets Wednesday nights throughout November from 8 – 9 PM.
URL:https://shirhadashjerusalem.com/event/r-brovender-3/
LOCATION:ישראל
CATEGORIES:Upcoming Events
ATTACH;FMTTYPE=image/jpeg:https://shirhadashjerusalem.com/wp-content/uploads/2016/12/rabbibrovender.jpg
END:VEVENT
BEGIN:VEVENT
DTSTART;TZID=Asia/Jerusalem:20191028T110000
DTEND;TZID=Asia/Jerusalem:20191028T123000
DTSTAMP:20260423T011417
CREATED:20191002T115616Z
LAST-MODIFIED:20191022T172311Z
UID:1763-1572260400-1572265800@shirhadashjerusalem.com
SUMMARY:Great Jewish Ideas
DESCRIPTION:Class meets Mondays in November 11 AM – 12:30 PM.
URL:https://shirhadashjerusalem.com/event/great-jewish-ideas-2/
LOCATION:ישראל
CATEGORIES:Upcoming Events
ATTACH;FMTTYPE=image/jpeg:https://shirhadashjerusalem.com/wp-content/uploads/2019/10/peta.jpg
END:VEVENT
BEGIN:VEVENT
DTSTART;TZID=Asia/Jerusalem:20191027T110000
DTEND;TZID=Asia/Jerusalem:20191027T123000
DTSTAMP:20260423T011417
CREATED:20191002T115535Z
LAST-MODIFIED:20191022T172043Z
UID:1761-1572174000-1572179400@shirhadashjerusalem.com
SUMMARY:Parsha Plus
DESCRIPTION:Class meets Sunday mornings all through November\, 11 AM – 12:15 PM.
URL:https://shirhadashjerusalem.com/event/parsha-plus-4/
LOCATION:ישראל
CATEGORIES:Our Events,Upcoming Events
ATTACH;FMTTYPE=image/jpeg:https://shirhadashjerusalem.com/wp-content/uploads/2019/10/peta.jpg
END:VEVENT
BEGIN:VEVENT
DTSTART;VALUE=DATE:20191026
DTEND;VALUE=DATE:20191027
DTSTAMP:20260423T011417
CREATED:20191003T102438Z
LAST-MODIFIED:20191022T171241Z
UID:1765-1572048000-1572134399@shirhadashjerusalem.com
SUMMARY:Bereishit
DESCRIPTION:Candles 5:21 PM \nMincha 5:46 PM \nPre-Shacharit Shiur 8 AM \nShacharit 8:45 AM \nKid’s Service 10:15 AM \nKiddush Lunch 11 AM\, sponsored by Susan Handelman in honor of her 70th birthday. \nIncluding a L’chaim and Ice Cream sponsored by Moshe and Rachel Insell in celebration of the bat mitzvah of their daughter \nShabbat Ends 6:33 PM
URL:https://shirhadashjerusalem.com/event/bereishit/
LOCATION:ישראל
CATEGORIES:Our Events,Upcoming Events
ATTACH;FMTTYPE=image/jpeg:https://shirhadashjerusalem.com/wp-content/uploads/2019/10/susanhandelman.jpg
END:VEVENT
BEGIN:VEVENT
DTSTART;TZID=Asia/Jerusalem:20191023T200000
DTEND;TZID=Asia/Jerusalem:20191023T210000
DTSTAMP:20260423T011417
CREATED:20191002T114130Z
LAST-MODIFIED:20191002T114130Z
UID:1754-1571860800-1571864400@shirhadashjerusalem.com
SUMMARY:R. Brovender
DESCRIPTION:
URL:https://shirhadashjerusalem.com/event/r-brovender-2/
LOCATION:ישראל
CATEGORIES:Upcoming Events
END:VEVENT
BEGIN:VEVENT
DTSTART;TZID=Asia/Jerusalem:20191021T080000
DTEND;TZID=Asia/Jerusalem:20191021T170000
DTSTAMP:20260423T011417
CREATED:20191002T115139Z
LAST-MODIFIED:20191002T115237Z
UID:1756-1571644800-1571677200@shirhadashjerusalem.com
SUMMARY:Simchat Torah
DESCRIPTION:SUNDAY NIGHT – MONDAY \nCandles 5:26 PM \nMincha 5:51 PM \nFollowed by Ma’ariv\, Hakafot & Torah Reading \n  \nShacharit 8:30 AM Please Note Earlier Time \nHakafot 9:30 AM \nTorah Reading 10:45 AM \nYizkor & Musaf 11:45 AM \nChag Ends 6:38 PM \n  \nSIMCHAT TORAH KID’S TREATS: Thank you once again to Naftali and Jenny Sternlicht for sponsoring and distributing the treats for our children during Simchat Torah.  As in years’ past\, these will be distributed to the children during a special hakafa (the 6th one) both at the nighttime and daytime tephillot.
URL:https://shirhadashjerusalem.com/event/simchat-torah/
LOCATION:ישראל
CATEGORIES:Our Events,Upcoming Events
ATTACH;FMTTYPE=image/jpeg:https://shirhadashjerusalem.com/wp-content/uploads/2019/10/rabbisdancing.jpg
END:VEVENT
BEGIN:VEVENT
DTSTART;VALUE=DATE:20191019
DTEND;VALUE=DATE:20191020
DTSTAMP:20260423T011417
CREATED:20191002T112823Z
LAST-MODIFIED:20191002T112823Z
UID:1752-1571443200-1571529599@shirhadashjerusalem.com
SUMMARY:Shabbat Chol HaMoed
DESCRIPTION:Candles 5:28 PM \nMincha 5:53 PM \nShacharit 8:30 AM Please note earlier time (Due to reading of Kohelet) \nHallel 9:20 AM \nKid’s Service 10:30 AM \nKiddush 11:30 AM \nShabbat Ends 6:33 PM
URL:https://shirhadashjerusalem.com/event/shabbat-chol-hamoed/
LOCATION:shir hadash\, Yakov Rubin #1\, jerusalem\, Jerusalem\, 93111\, Israel
CATEGORIES:Upcoming Events
END:VEVENT
BEGIN:VEVENT
DTSTART;VALUE=DATE:20191014
DTEND;VALUE=DATE:20191015
DTSTAMP:20260423T011417
CREATED:20191002T112531Z
LAST-MODIFIED:20191002T112531Z
UID:1749-1571011200-1571097599@shirhadashjerusalem.com
SUMMARY:Sukkot
DESCRIPTION:Sunday Night – Monday \nCandles 5:34 PM \nMincha 5:59 PM \nShacharit 8:45 AM \nHallel 9:20 AM \nKid’s Service 10:30 AM \nKiddush 11:30 AM \nChag Ends 6:45 PM \n  \n  \n  \n 
URL:https://shirhadashjerusalem.com/event/sukkot/
LOCATION:shir hadash\, Yakov Rubin #1\, jerusalem\, Jerusalem\, 93111\, Israel
CATEGORIES:Our Events,Upcoming Events
ATTACH;FMTTYPE=image/jpeg:https://shirhadashjerusalem.com/wp-content/uploads/2019/10/sukkot.jpg
END:VEVENT
BEGIN:VEVENT
DTSTART;VALUE=DATE:20191012
DTEND;VALUE=DATE:20191013
DTSTAMP:20260423T011417
CREATED:20191002T112013Z
LAST-MODIFIED:20191002T112013Z
UID:1747-1570838400-1570924799@shirhadashjerusalem.com
SUMMARY:Ha'azinu
DESCRIPTION:Candles 5:36 PM \nMincha 6:01 PM \nPre-Shacharit Shiur 8 AM \nShacharit 8:45 AM \nKid’s Service 10:15 AM \nKiddush 11:00 AM\, sponsored by Peta Pellach in commemoration of the Yahrzeit of her mother \nShabbat Ends 6:48 PM \n 
URL:https://shirhadashjerusalem.com/event/haazinu/
LOCATION:shir hadash\, Yakov Rubin #1\, jerusalem\, Jerusalem\, 93111\, Israel
CATEGORIES:Our Events,Upcoming Events
ATTACH;FMTTYPE=image/jpeg:https://shirhadashjerusalem.com/wp-content/uploads/2017/01/shabbat.jpg
END:VEVENT
BEGIN:VEVENT
DTSTART;TZID=Asia/Jerusalem:20191008T173000
DTEND;TZID=Asia/Jerusalem:20191009T190000
DTSTAMP:20260423T011417
CREATED:20191002T110916Z
LAST-MODIFIED:20191002T111411Z
UID:1741-1570555800-1570647600@shirhadashjerusalem.com
SUMMARY:Yom Kippur
DESCRIPTION:SCHEDULE \nTUESDAY  \nCandles 5:40 PM \nKol Nidrei 6:00 PM \nWEDNESDAY \nShacharit 8:30 AM \nYizkor 10:45 AM \nFollowing Musaf a break will take place prior to Mincha. For those interested in remaining in shul\, shiurim will be provided after the first portion of that break:\n\n2:55 – 3:25 PM Rabbi Robert Rhodes on TBA\n3:25 – 3:55 PM Peta Pellach on “Only a Few More Hours: the Power of the Mincha and Neilah Prayers”\n\nMincha 4 PM\nNeila 5:25 PM\nTekiat Shofar 6:45 PM \nYom Kippur Ends 6:51 PM \nFollowing Neilah and Ma’ariv\, we will once again be hosting a Communal Break Fast to which all are invited.  We thank Rachel and Alan Shuchalter & Sharon and Ian Brown for their continued generous sponsorship of this event.  Sharon and Ian are sponsoring it in loving memory of Sharon’s mother\, Lombi bat Abba.  May the memory of this special woman continue to be a blessing.  Rachel and Alan are sponsoring it in gratitude for a year of personal celebrations and wishes for the coming year to bring continued blessings to the entire Shir hadash community as well as to all of Klal Yisrael.
URL:https://shirhadashjerusalem.com/event/yom-kippur/
LOCATION:ישראל
CATEGORIES:Our Events,Upcoming Events
ATTACH;FMTTYPE=image/jpeg:https://shirhadashjerusalem.com/wp-content/uploads/2019/10/yomkippur.jpg
END:VEVENT
BEGIN:VEVENT
DTSTART;TZID=Asia/Jerusalem:20191007T110000
DTEND;TZID=Asia/Jerusalem:20191007T123000
DTSTAMP:20260423T011417
CREATED:20191002T105237Z
LAST-MODIFIED:20191002T105237Z
UID:1739-1570446000-1570451400@shirhadashjerusalem.com
SUMMARY:Great Jewish Ideas
DESCRIPTION:Every Monday morning at 11 AM come and enjoy Peta Pellach’s unique perspective on some of the Great Jewish Ideas that have shaped – and continue to shape – Jewish life.
URL:https://shirhadashjerusalem.com/event/great-jewish-ideas/
LOCATION:shir hadash\, Yakov Rubin #1\, jerusalem\, Jerusalem\, 93111\, Israel
CATEGORIES:Upcoming Events
END:VEVENT
BEGIN:VEVENT
DTSTART;TZID=Asia/Jerusalem:20191006T110000
DTEND;TZID=Asia/Jerusalem:20191006T123000
DTSTAMP:20260423T011417
CREATED:20191002T104701Z
LAST-MODIFIED:20191002T104833Z
UID:1737-1570359600-1570365000@shirhadashjerusalem.com
SUMMARY:Parsha Plus
DESCRIPTION:Delve into the depths of the weekly Torah portion with Peta Pelach.  Every Sunday morning at 11 AM.
URL:https://shirhadashjerusalem.com/event/parsha-plus-3/
LOCATION:shir hadash\, Yakov Rubin #1\, jerusalem\, Jerusalem\, 93111\, Israel
CATEGORIES:Upcoming Events
END:VEVENT
BEGIN:VEVENT
DTSTART;TZID=Asia/Jerusalem:20191006T081500
DTEND;TZID=Asia/Jerusalem:20191006T090000
DTSTAMP:20260423T011417
CREATED:20191003T102939Z
LAST-MODIFIED:20191003T102959Z
UID:1767-1570349700-1570352400@shirhadashjerusalem.com
SUMMARY:Weekday Shacharit
DESCRIPTION:All Month Long at 8:15 AM
URL:https://shirhadashjerusalem.com/event/weekday-shacharit/
LOCATION:shir hadash\, Yakov Rubin #1\, jerusalem\, Jerusalem\, 93111\, Israel
CATEGORIES:Upcoming Events
END:VEVENT
BEGIN:VEVENT
DTSTART;VALUE=DATE:20191005
DTEND;VALUE=DATE:20191006
DTSTAMP:20260423T011417
CREATED:20190904T082145Z
LAST-MODIFIED:20190904T082545Z
UID:1696-1570233600-1570319999@shirhadashjerusalem.com
SUMMARY:Shabbat Shuva Drasha
DESCRIPTION:We are honored to welcome Rabbi Dr. Kenneth Katriel Brander to Shir Hadash to deliver this year’s Shabbat Shuva Drasha\, Parshat VaYelech (6 Tishrei\, October 5).  His topic will be: U’Netaneh Tokef: Understanding its History and Deeper Meaning \nShacharit 8:45 AM \nTephilla Ends 10:30 AM \nDrasha 10:35 AM \nKiddush to follow Drasha\, sponsored by the Stiebel family.
URL:https://shirhadashjerusalem.com/event/shabbat-shuva-drasha/
LOCATION:ישראל
CATEGORIES:Our Events
ATTACH;FMTTYPE=image/jpeg:https://shirhadashjerusalem.com/wp-content/uploads/2019/09/brander.jpg
END:VEVENT
BEGIN:VEVENT
DTSTART;TZID=Asia/Jerusalem:20191002T200000
DTEND;TZID=Asia/Jerusalem:20191002T210000
DTSTAMP:20260423T011417
CREATED:20191002T104517Z
LAST-MODIFIED:20191002T104517Z
UID:1735-1570046400-1570050000@shirhadashjerusalem.com
SUMMARY:R. Brovender
DESCRIPTION:Enjoy learning from one of Jerusalem’s most cherished teachers of Torah\, Rabbi Chaim Brovender.  Every Wednesday night at 8 PM.
URL:https://shirhadashjerusalem.com/event/r-brovender/
LOCATION:shir hadash\, Yakov Rubin #1\, jerusalem\, Jerusalem\, 93111\, Israel
CATEGORIES:Upcoming Events
END:VEVENT
BEGIN:VEVENT
DTSTART;VALUE=DATE:20190929
DTEND;VALUE=DATE:20191002
DTSTAMP:20260423T011417
CREATED:20190804T164230Z
LAST-MODIFIED:20190904T135449Z
UID:1419-1569715200-1569974399@shirhadashjerusalem.com
SUMMARY:Rosh Hashana
DESCRIPTION:Sunday morning Slichot 7:25 AM\nShacharit 8:15 AM\nHatarat Nedarim 8:55 AM\nDaf Yomi 9:15 AM\n\nDAY 1\n\nSUNDAY\nCandles 5:51 PM\nMincha 6:16 PM\nFollowed by Drasha\nFollowed by Maariv\n\nMONDAY\n\nShacharit 8:00 AM\nTorah 9:15 AM\nDrasha: Approximately 10 AM\nShofar 10:15 AM\nChildren 10:15 AM – 12:15 PM\nMusaf 10:30 AM\nConclusion 12:30 PM\nSmall Kiddush sponsored by the Shul\n\nMincha 6:10 PM\nTashlich 6:30 PM\n\nDAY 2\nMONDAY\nCandles After 7:02 PM\nMaariv 7:00 PM\n\nTUESDAY\nShacharit 8:00 AM\nTorah 9:15 AM\nDrasha 9:45 AM\nShofar 10:00 AM\nChildren 10:15 AM – 12:15 PM\nMusaf 10:15 AM\nConclusion 12:30 PM\nLarge Extended Kiddush – with possibility to wash and kove’a seuda – sponsored  by Bob and Diane Abrams.\nChag Ends 7:00 PM
URL:https://shirhadashjerusalem.com/event/rosh-hashana/
LOCATION:shir hadash\, Yakov Rubin #1\, jerusalem\, Jerusalem\, 93111\, Israel
CATEGORIES:Our Events,Upcoming Events
ATTACH;FMTTYPE=image/jpeg:https://shirhadashjerusalem.com/wp-content/uploads/2019/08/roshhashana-e1565273092840.jpg
END:VEVENT
END:VCALENDAR