BEGIN:VCALENDAR
VERSION:2.0
PRODID:-//Shir Hadash - ECPv6.15.20//NONSGML v1.0//EN
CALSCALE:GREGORIAN
METHOD:PUBLISH
X-WR-CALNAME:Shir Hadash
X-ORIGINAL-URL:https://shirhadashjerusalem.com
X-WR-CALDESC:Events for Shir Hadash
REFRESH-INTERVAL;VALUE=DURATION:PT1H
X-Robots-Tag:noindex
X-PUBLISHED-TTL:PT1H
BEGIN:VTIMEZONE
TZID:Asia/Jerusalem
BEGIN:DAYLIGHT
TZOFFSETFROM:+0200
TZOFFSETTO:+0300
TZNAME:IDT
DTSTART:20190329T000000
END:DAYLIGHT
BEGIN:STANDARD
TZOFFSETFROM:+0300
TZOFFSETTO:+0200
TZNAME:IST
DTSTART:20191026T230000
END:STANDARD
BEGIN:DAYLIGHT
TZOFFSETFROM:+0200
TZOFFSETTO:+0300
TZNAME:IDT
DTSTART:20200327T000000
END:DAYLIGHT
BEGIN:STANDARD
TZOFFSETFROM:+0300
TZOFFSETTO:+0200
TZNAME:IST
DTSTART:20201024T230000
END:STANDARD
BEGIN:DAYLIGHT
TZOFFSETFROM:+0200
TZOFFSETTO:+0300
TZNAME:IDT
DTSTART:20210326T000000
END:DAYLIGHT
BEGIN:STANDARD
TZOFFSETFROM:+0300
TZOFFSETTO:+0200
TZNAME:IST
DTSTART:20211030T230000
END:STANDARD
BEGIN:DAYLIGHT
TZOFFSETFROM:+0200
TZOFFSETTO:+0300
TZNAME:IDT
DTSTART:20220325T000000
END:DAYLIGHT
BEGIN:STANDARD
TZOFFSETFROM:+0300
TZOFFSETTO:+0200
TZNAME:IST
DTSTART:20221029T230000
END:STANDARD
BEGIN:DAYLIGHT
TZOFFSETFROM:+0200
TZOFFSETTO:+0300
TZNAME:IDT
DTSTART:20230324T000000
END:DAYLIGHT
BEGIN:STANDARD
TZOFFSETFROM:+0300
TZOFFSETTO:+0200
TZNAME:IST
DTSTART:20231028T230000
END:STANDARD
END:VTIMEZONE
BEGIN:VEVENT
DTSTART;TZID=Asia/Jerusalem:20201104T133000
DTEND;TZID=Asia/Jerusalem:20201209T180000
DTSTAMP:20260423T013309
CREATED:20201029T081830Z
LAST-MODIFIED:20201029T081833Z
UID:3127-1604496600-1607536800@shirhadashjerusalem.com
SUMMARY:Amudim Learning
DESCRIPTION:On Wednesday afternoons\, Shir Hadash hosts Amudim – an innovative post high school gap year program for young women – for it’s weekly day of learning in Jerusalem.  Included among the scholars offering ongoing classes Shir Hadash’s co-founder and Rebbetzin\, Dr. Rachel Pear (who teaches Jewish views on evolution).  To learn more about Amudim\, and it’s unique approach to Yeshiva learning that combines traditional and modern scholarship\, click here.
URL:https://shirhadashjerusalem.com/event/amudim-learning/
CATEGORIES:Our Events,Upcoming Events
ATTACH;FMTTYPE=image/jpeg:https://shirhadashjerusalem.com/wp-content/uploads/2020/10/amudim-rachelteaching.jpg
END:VEVENT
BEGIN:VEVENT
DTSTART;TZID=Asia/Jerusalem:20201104T200000
DTEND;TZID=Asia/Jerusalem:20201104T210000
DTSTAMP:20260423T013309
CREATED:20201029T083753Z
LAST-MODIFIED:20201029T084157Z
UID:3096-1604520000-1604523600@shirhadashjerusalem.com
SUMMARY:Meaning in Mitzvot
DESCRIPTION:Join us WEDNESDAY NIGHTS AT 8 PM (Israel Time) for an exploration of one of the 613 Commandments in the Torah.  We use the Sefer HaChinuch as our primary source material\, but quickly expand our survey to include a variety of philosophical\, legal and ethical perspectives.  Click here for the Zoom link.
URL:https://shirhadashjerusalem.com/event/meaning-in-mitzvot-4/
CATEGORIES:Our Events,Upcoming Events
ATTACH;FMTTYPE=image/jpeg:https://shirhadashjerusalem.com/wp-content/uploads/2019/08/613-e1603108368943.jpg
END:VEVENT
BEGIN:VEVENT
DTSTART;TZID=Asia/Jerusalem:20201220T180000
DTEND;TZID=Asia/Jerusalem:20201220T210000
DTSTAMP:20260423T013309
CREATED:20201029T112411Z
LAST-MODIFIED:20201029T112412Z
UID:3140-1608487200-1608498000@shirhadashjerusalem.com
SUMMARY:Conversion Program
DESCRIPTION:Shir Hadash is pleased to offer a 11 month course of study for potential converts to Judaism in conjunction with the Nativ Civilian Program\, the National Center for Identity and Conversion.  This course will meet twice weekly beginning just after Chanuka.  If interested in learning more\, e-mail shirhadash613@gmail.com. \n\n\n\nThe preparation course introduces students to a rich world of content\, including the Bible\, Jewish History\, Zionism\, Jewish Thought\, the Yearly Holiday Cycle and the Life Cycle\, as well as exposes them to Jewish values like Charity\, Kindness\, and Hospitality.  During the course\, students and their families participate in an educational tour and group Sabbath experience.  Shir Hadash will also connect the students to mentor and host families and individuals.  This course prepares students to be accepted as converts by the Conversion Courts of the State of Israel.
URL:https://shirhadashjerusalem.com/event/conversion-program/
CATEGORIES:Our Events,Upcoming Events
ATTACH;FMTTYPE=image/jpeg:https://shirhadashjerusalem.com/wp-content/uploads/2020/05/library.jpg
END:VEVENT
BEGIN:VEVENT
DTSTART;TZID=Asia/Jerusalem:20210222T081500
DTEND;TZID=Asia/Jerusalem:20210226T090000
DTSTAMP:20260423T013309
CREATED:20210221T135033Z
LAST-MODIFIED:20210221T135732Z
UID:3307-1613981700-1614330000@shirhadashjerusalem.com
SUMMARY:Weekday Shacharit
DESCRIPTION:Shacharit meets daily from 8:15 AM – 8:50 AM (on non-Torah reading days) and 8:15 AM – 9 AM (on torah reading days)\, followed immediately by Daf Yomi.
URL:https://shirhadashjerusalem.com/event/weekday-shacharit-2/
CATEGORIES:Our Events
ATTACH;FMTTYPE=image/jpeg:https://shirhadashjerusalem.com/wp-content/uploads/2020/05/sidurlarge.jpg
END:VEVENT
BEGIN:VEVENT
DTSTART;TZID=Asia/Jerusalem:20210222T090000
DTEND;TZID=Asia/Jerusalem:20210226T100000
DTSTAMP:20260423T013309
CREATED:20210221T135425Z
LAST-MODIFIED:20210221T135426Z
UID:3309-1613984400-1614333600@shirhadashjerusalem.com
SUMMARY:Daf Yomi
DESCRIPTION:Daf Yomi meets daily Sunday – Friday in person at Shir Hadash as well as on our Facebook Group.
URL:https://shirhadashjerusalem.com/event/daf-yomi-3/
CATEGORIES:Our Events
ATTACH;FMTTYPE=image/jpeg:https://shirhadashjerusalem.com/wp-content/uploads/2019/10/dafyomi.jpg
END:VEVENT
BEGIN:VEVENT
DTSTART;TZID=Asia/Jerusalem:20210226T165900
DTEND;TZID=Asia/Jerusalem:20210226T180000
DTSTAMP:20260423T013309
CREATED:20210221T140532Z
LAST-MODIFIED:20210221T140533Z
UID:3316-1614358740-1614362400@shirhadashjerusalem.com
SUMMARY:Friday Night Tephilla - Tetzave / Purim
DESCRIPTION:Candles 4:59 PM \n\n\n\nMincha 5:24 PMKabalat Shabbat 5:35 PMFollowed by Maariv
URL:https://shirhadashjerusalem.com/event/friday-night-tephilla-tetzave-purim/
CATEGORIES:Our Events
ATTACH;FMTTYPE=image/jpeg:https://shirhadashjerusalem.com/wp-content/uploads/2020/09/shabbat.jpg
END:VEVENT
BEGIN:VEVENT
DTSTART;TZID=Asia/Jerusalem:20210227T084500
DTEND;TZID=Asia/Jerusalem:20210227T110000
DTSTAMP:20260423T013309
CREATED:20210221T141021Z
LAST-MODIFIED:20210221T141022Z
UID:3320-1614415500-1614423600@shirhadashjerusalem.com
SUMMARY:Shabbat Day
DESCRIPTION:Shabbat Morning Tephillot \n\n\n\n8:45 AM Shacharit10:20 AM Dvar Torah10:45 AM Conclude \n\n\n\nTake-Away Kiddush this Shabbat sponsored by Nancy Bechor in celebration of the birth of a baby grandson.  Mazal Tov.
URL:https://shirhadashjerusalem.com/event/shabbat-day/
CATEGORIES:Our Events
ATTACH;FMTTYPE=image/jpeg:https://shirhadashjerusalem.com/wp-content/uploads/2017/01/shabbat.jpg
END:VEVENT
BEGIN:VEVENT
DTSTART;TZID=Asia/Jerusalem:20210228T081500
DTEND;TZID=Asia/Jerusalem:20210305T210000
DTSTAMP:20260423T013309
CREATED:20210221T140756Z
LAST-MODIFIED:20210221T140758Z
UID:3318-1614500100-1614978000@shirhadashjerusalem.com
SUMMARY:Weekday Shacharit
DESCRIPTION:Weekday Shacharit meets at 8:15 AM Sunday through Friday.
URL:https://shirhadashjerusalem.com/event/weekday-shacharit-3/
CATEGORIES:Our Events
ATTACH;FMTTYPE=image/jpeg:https://shirhadashjerusalem.com/wp-content/uploads/2020/05/sidurlarge.jpg
END:VEVENT
BEGIN:VEVENT
DTSTART;TZID=Asia/Jerusalem:20210305T170400
DTEND;TZID=Asia/Jerusalem:20210305T180000
DTSTAMP:20260423T013309
CREATED:20210221T140022Z
LAST-MODIFIED:20210221T140150Z
UID:3313-1614963840-1614967200@shirhadashjerusalem.com
SUMMARY:Friday Night Tephilla - Ki Tisa
DESCRIPTION:Friday Night Schedule includes: \n\n\n\nCandles 5:04 PM \n\n\n\nMincha 5:29 PM \n\n\n\nKabalat Shabbat 5:40 PM \n\n\n\nFollowed by Maariv
URL:https://shirhadashjerusalem.com/event/friday-night-tephilla/
CATEGORIES:Our Events
ATTACH;FMTTYPE=image/jpeg:https://shirhadashjerusalem.com/wp-content/uploads/2020/09/shabbat.jpg
END:VEVENT
BEGIN:VEVENT
DTSTART;TZID=Asia/Jerusalem:20210605T120000
DTEND;TZID=Asia/Jerusalem:20210605T140000
DTSTAMP:20260423T013309
CREATED:20210604T105310Z
LAST-MODIFIED:20210604T105328Z
UID:3437-1622894400-1622901600@shirhadashjerusalem.com
SUMMARY:Families w/ Young Children Potluck
DESCRIPTION:
URL:https://shirhadashjerusalem.com/event/families-w-young-children-potluck/
LOCATION:Shir Hadash\, Yakov Rubin #1\, Jerusalem\, ישראל\, 9311174
CATEGORIES:Upcoming Events
ATTACH;FMTTYPE=image/jpeg:https://shirhadashjerusalem.com/wp-content/uploads/2021/06/families-eating.jpg
END:VEVENT
BEGIN:VEVENT
DTSTART;TZID=Asia/Jerusalem:20210612T084500
DTEND;TZID=Asia/Jerusalem:20210612T110000
DTSTAMP:20260423T013309
CREATED:20210603T094649Z
LAST-MODIFIED:20210603T094650Z
UID:3420-1623487500-1623495600@shirhadashjerusalem.com
SUMMARY:Shabbat Chatan
DESCRIPTION:Mazal Tov to Chaim Seligman as he celebrates his Shabbat Chatan at Shir Hadash in celebration of his upcoming wedding to Dana Grob. The kiddush following Shabbat morning tephillot is sponsored by the Seligman family in honor of the occasion.
URL:https://shirhadashjerusalem.com/event/shabbat-chatan/
CATEGORIES:Upcoming Events
ATTACH;FMTTYPE=image/jpeg:https://shirhadashjerusalem.com/wp-content/uploads/2021/06/chaim-and-dana.jpg
END:VEVENT
BEGIN:VEVENT
DTSTART;TZID=Asia/Jerusalem:20210620T200000
DTEND;TZID=Asia/Jerusalem:20210620T210000
DTSTAMP:20260423T013309
CREATED:20210601T090118Z
LAST-MODIFIED:20210601T090118Z
UID:3381-1624219200-1624222800@shirhadashjerusalem.com
SUMMARY:Book Talk:
DESCRIPTION:
URL:https://shirhadashjerusalem.com/event/book-talk/
CATEGORIES:Our Events,Upcoming Events
ATTACH;FMTTYPE=image/jpeg:https://shirhadashjerusalem.com/wp-content/uploads/2021/06/changing-your-reality.jpg
END:VEVENT
BEGIN:VEVENT
DTSTART;TZID=Asia/Jerusalem:20210725T120000
DTEND;TZID=Asia/Jerusalem:20210725T140000
DTSTAMP:20260423T013309
CREATED:20210604T105816Z
LAST-MODIFIED:20210604T105817Z
UID:3442-1627214400-1627221600@shirhadashjerusalem.com
SUMMARY:Families with Young Children Potluck
DESCRIPTION:To participate\, join our whatsapp group for children of young families; this is where reservations are made and potluck assignments are made.
URL:https://shirhadashjerusalem.com/event/families-with-young-children-potluck/
LOCATION:shir hadash\, Yakov Rubin #1\, jerusalem\, Jerusalem\, 93111\, Israel
ATTACH;FMTTYPE=image/jpeg:https://shirhadashjerusalem.com/wp-content/uploads/2021/06/families-eating.jpg
END:VEVENT
BEGIN:VEVENT
DTSTART;TZID=Asia/Jerusalem:20210821T084500
DTEND;TZID=Asia/Jerusalem:20210821T230000
DTSTAMP:20260423T013309
CREATED:20210606T082942Z
LAST-MODIFIED:20210606T082943Z
UID:3444-1629535500-1629586800@shirhadashjerusalem.com
SUMMARY:Shabbat Chatan
DESCRIPTION:We celebrate this Shabbat the Shabbat Chatan of Avi Braun\, son of Rabbi Nasanayl and Tamar Braun.
URL:https://shirhadashjerusalem.com/event/shabbat-chatan-2/
LOCATION:shir hadash\, Yakov Rubin #1\, jerusalem\, Jerusalem\, 93111\, Israel
CATEGORIES:Upcoming Events
ATTACH;FMTTYPE=image/jpeg:https://shirhadashjerusalem.com/wp-content/uploads/2021/06/braun-engagement.jpg
END:VEVENT
BEGIN:VEVENT
DTSTART;TZID=Asia/Jerusalem:20220520T185700
DTEND;TZID=Asia/Jerusalem:20220521T201300
DTSTAMP:20260423T013309
CREATED:20220516T092323Z
LAST-MODIFIED:20220516T094802Z
UID:3554-1653073020-1653163980@shirhadashjerusalem.com
SUMMARY:Bechukotai
DESCRIPTION:Mincha 7:22 PM \n\n\n\nWelcome Guest Ba’al Tephilla Sammy Schaechter. \n\n\n\nShabbat Morning Parsha Shiur 8 AM \n\n\n\nShacharit 8:45 AM \n\n\n\nKid’s Service 10:15 AM \n\n\n\nKiddush 11 AM \n\n\n\nThe kiddush is sponsored by the Hyman family in celebration of Steven Hyman’s 70th Birthday.  Mazal Tov!
URL:https://shirhadashjerusalem.com/event/shabbat-parshat-bechukotai/
CATEGORIES:Our Events,Upcoming Events
ATTACH;FMTTYPE=image/jpeg:https://shirhadashjerusalem.com/wp-content/uploads/2022/05/sammy-schaechter-1.jpg
END:VEVENT
BEGIN:VEVENT
DTSTART;TZID=Asia/Jerusalem:20220527T190100
DTEND;TZID=Asia/Jerusalem:20220528T201800
DTSTAMP:20260423T013309
CREATED:20220516T094518Z
LAST-MODIFIED:20220516T094524Z
UID:3558-1653678060-1653769080@shirhadashjerusalem.com
SUMMARY:B'Midbar
DESCRIPTION:Mincha 7:26 PM \n\n\n\nShabbat Morning Parsha Shiur 8 AM \n\n\n\nShacharit 8:45 AM \n\n\n\nKid’s Service 10:15 AM \n\n\n\nKiddush 11 AM \n\n\n\nThe Kiddush this week is in celebration of a Shabbat Chatan
URL:https://shirhadashjerusalem.com/event/bmidbar/
CATEGORIES:Our Events,Upcoming Events
ATTACH;FMTTYPE=image/jpeg:https://shirhadashjerusalem.com/wp-content/uploads/2020/09/shabbat.jpg
END:VEVENT
BEGIN:VEVENT
DTSTART;TZID=Asia/Jerusalem:20220529T081500
DTEND;TZID=Asia/Jerusalem:20220529T081500
DTSTAMP:20260423T013309
CREATED:20220516T101047Z
LAST-MODIFIED:20220516T101052Z
UID:3565-1653812100-1653812100@shirhadashjerusalem.com
SUMMARY:Jerusalem Day
DESCRIPTION:Join us for morning Shacharit as we celebrate Yom Yerushalayim in our tephillot.
URL:https://shirhadashjerusalem.com/event/jerusalem-day/
CATEGORIES:Our Events,Upcoming Events
ATTACH;FMTTYPE=image/jpeg:https://shirhadashjerusalem.com/wp-content/uploads/2020/05/jerusalemwithpeople.jpg
END:VEVENT
BEGIN:VEVENT
DTSTART;TZID=Asia/Jerusalem:20220603T190500
DTEND;TZID=Asia/Jerusalem:20220605T202300
DTSTAMP:20260423T013309
CREATED:20220516T100358Z
LAST-MODIFIED:20220516T100403Z
UID:3562-1654283100-1654460580@shirhadashjerusalem.com
SUMMARY:Naso & Shavuot
DESCRIPTION:FRIDAY NIGHT: Mincha 7:30 PM \n\n\n\nShabbat Morning Shacharit 8:45 AM Guest Ba’al Tephilla Rabbi Sam Shor \n\n\n\nMaariv for Motzei Shabbat / Beginning of Shavuot 8:15 PM \n\n\n\nCommunal Dinner 8:45 PM \n\n\n\nShiur by Dr. Julie Goldstein 10:15 PM \n\n\n\n \n\n\n\nTikun Leil at Pear Home\, HaPalmach 54/3 \n\n\n\n11:30 PM Doors Open / Refreshments \n\n\n\n12 AM R. Gedalia Gurfein \n\n\n\n1 AM Dr. Ayelet Hoffman Libson \n\n\n\n2 AM R. Uri Goldstein \n\n\n\n3 AM R. Ian Pear \n\n\n\n3:45 AM Walk to the Kotel or Shir Hadash \n\n\n\n4:30 AM Megilat Ruth at Shir Hadash \n\n\n\n5:15 AM Shacharit \n\n\n\n5:42 AM Neitz HaChama \n\n\n\n \n\n\n\nNo Regular Minyan at Shir Hadash
URL:https://shirhadashjerusalem.com/event/naso-shavuot/
CATEGORIES:Our Events,Upcoming Events
ATTACH;FMTTYPE=image/jpeg:https://shirhadashjerusalem.com/wp-content/uploads/2022/05/torah.jpg
END:VEVENT
BEGIN:VEVENT
DTSTART;TZID=Asia/Jerusalem:20220603T190500
DTEND;TZID=Asia/Jerusalem:20220605T203000
DTSTAMP:20260423T013309
CREATED:20220524T100407Z
LAST-MODIFIED:20220529T071356Z
UID:3590-1654283100-1654461000@shirhadashjerusalem.com
SUMMARY:Shavuot Schedule
DESCRIPTION:Learning in honor of Shavuot begins early with special lectures on the Shabbat immediately preceding the Holiday\, followed by our always popular Tikun Leil All Night Learning at the Pear home\, and including this year a Shavuot (Sunday) afternoon additional learning program for women.  For all the details\, find out more (and sign up to receive weekly e-mails if you don’t already receive them).
URL:https://shirhadashjerusalem.com/event/shavuot-schedule/
CATEGORIES:Our Events,Special,Upcoming Events
ATTACH;FMTTYPE=image/jpeg:https://shirhadashjerusalem.com/wp-content/uploads/2020/05/behar.jpg
END:VEVENT
BEGIN:VEVENT
DTSTART;TZID=Asia/Jerusalem:20220610T190900
DTEND;TZID=Asia/Jerusalem:20220611T202600
DTSTAMP:20260423T013309
CREATED:20220529T093210Z
LAST-MODIFIED:20220608T093856Z
UID:3673-1654888140-1654979160@shirhadashjerusalem.com
SUMMARY:Behalotcha
DESCRIPTION:In addition to our regular Shabbat Schedule\, we are pleased to announce that this Shabbat will include a special Kiddush Lunch sponsored by Dorothea Krieger in commemoration of the 10th yahrzeit on Sivan 9 of her father – Eliezer Natan ben Moshe Nachum HaKohen ( Leo Krieger).  May his memory continue to be for a blessing.  (Please note: This is a real Lunch; there will be plenty of food to make this your Shabbat meal\, so please come hungry and plan to stay).
URL:https://shirhadashjerusalem.com/event/behalotcha/
CATEGORIES:Our Events,Upcoming Events
ATTACH;FMTTYPE=image/jpeg:https://shirhadashjerusalem.com/wp-content/uploads/2022/06/dorothea.jpg
END:VEVENT
BEGIN:VEVENT
DTSTART;TZID=Asia/Jerusalem:20220617T191200
DTEND;TZID=Asia/Jerusalem:20220618T202900
DTSTAMP:20260423T013309
CREATED:20220610T061215Z
LAST-MODIFIED:20220610T061221Z
UID:3678-1655493120-1655584140@shirhadashjerusalem.com
SUMMARY:Shlach Lecha
DESCRIPTION:In addition to our regular Shabbat Schedule\, we will also be welcoming a group of visitors Friday night (as part of a Reform Synagogue Israel mission) and celebrate a birthday kiddush on Shabbat day sponsored by Shelly Vogel.
URL:https://shirhadashjerusalem.com/event/shlach-lecha/
CATEGORIES:Our Events
ATTACH;FMTTYPE=image/jpeg:https://shirhadashjerusalem.com/wp-content/uploads/2022/06/shelly-vogel.jpg
END:VEVENT
BEGIN:VEVENT
DTSTART;TZID=Asia/Jerusalem:20220624T191300
DTEND;TZID=Asia/Jerusalem:20220625T203000
DTSTAMP:20260423T013309
CREATED:20220530T060746Z
LAST-MODIFIED:20220530T060752Z
UID:3650-1656097980-1656189000@shirhadashjerusalem.com
SUMMARY:Korach
DESCRIPTION:We welcome guest ba’al tephilla Noah Bar Shain to shul this Shabbat.  Enjoy a quick preview of his Acapella group’s (Rabotai) Musaf Medley.
URL:https://shirhadashjerusalem.com/event/korach/
CATEGORIES:Our Events,Upcoming Events
ATTACH;FMTTYPE=image/jpeg:https://shirhadashjerusalem.com/wp-content/uploads/2022/05/noah-bar-shain.jpg
END:VEVENT
BEGIN:VEVENT
DTSTART;TZID=Asia/Jerusalem:20220626T080000
DTEND;TZID=Asia/Jerusalem:20220731T170000
DTSTAMP:20260423T013309
CREATED:20220612T132836Z
LAST-MODIFIED:20220627T084207Z
UID:3681-1656230400-1659286800@shirhadashjerusalem.com
SUMMARY:Upcoming Shabbat Kiddushim
DESCRIPTION:July 2: Gottleib Family\, in celebration of Charlie’s Shabbat Chatan // \n\n\n\nJuly 9: Orna Even Parker\, in commemoration of her mother’s yahrzeit //  \n\n\n\nJuly 16: Philipa and Rodney Kellen\, in celebration of Ethan and Rebecca’s wedding // \n\n\n\nJuly 23: Available // \n\n\n\nJuly 30: Available // \n\n\n\nAugust 6: Available // \n\n\n\nAugust 13: Fialkoff Wedding Anniversary // \n\n\n\nAugust 20: Available // \n\n\n\nAugust 27: Nailand Shabbat Chatan //
URL:https://shirhadashjerusalem.com/event/upcoming-kiddushim/
CATEGORIES:Our Events
ATTACH;FMTTYPE=image/jpeg:https://shirhadashjerusalem.com/wp-content/uploads/2022/06/dessert.jpg
END:VEVENT
BEGIN:VEVENT
DTSTART;TZID=Asia/Jerusalem:20220626T081500
DTEND;TZID=Asia/Jerusalem:20220701T081500
DTSTAMP:20260423T013309
CREATED:20220505T082423Z
LAST-MODIFIED:20220626T075958Z
UID:3578-1656231300-1656663300@shirhadashjerusalem.com
SUMMARY:Weekday Morning Schedule
DESCRIPTION:Weekday Shacharit meets Sunday through Friday at 8:15 AM inside the Zeiring Beit Knesset. \n\n\n\nDaf Yomi (Bavli) follows immediately at 9 AM. \n\n\n\nOn Mondays\, Wednesdays and Thursdays\, Daf Yomi Yerushalmi meets 10 AM. \n\n\n\nOn Sundays at 10:30 AM\, Parsha Plus meets. \n\n\n\nOn Mondays at 10:30 AM\, Great Jewish Ideas meets.
URL:https://shirhadashjerusalem.com/event/shacharit-3/
CATEGORIES:Our Events,Special,Upcoming Events
ATTACH;FMTTYPE=image/jpeg:https://shirhadashjerusalem.com/wp-content/uploads/2016/12/morningprayer.jpg
END:VEVENT
BEGIN:VEVENT
DTSTART;TZID=Asia/Jerusalem:20220701T191300
DTEND;TZID=Asia/Jerusalem:20220702T203000
DTSTAMP:20260423T013309
CREATED:20220601T071505Z
LAST-MODIFIED:20220628T202506Z
UID:3658-1656702780-1656793800@shirhadashjerusalem.com
SUMMARY:Chukat
DESCRIPTION:We celebrate the Shabbat Chatan of Charlie Gottlieb this Shabbat\, followed by a celebratory kiddush.
URL:https://shirhadashjerusalem.com/event/chukat/
CATEGORIES:Our Events,Upcoming Events
ATTACH;FMTTYPE=image/jpeg:https://shirhadashjerusalem.com/wp-content/uploads/2022/06/charlie-gottleib.jpg
END:VEVENT
BEGIN:VEVENT
DTSTART;TZID=Asia/Jerusalem:20220708T191200
DTEND;TZID=Asia/Jerusalem:20220709T202900
DTSTAMP:20260423T013309
CREATED:20220606T105845Z
LAST-MODIFIED:20220606T105850Z
UID:3661-1657307520-1657398540@shirhadashjerusalem.com
SUMMARY:Balak
DESCRIPTION:On Shabbat morning we welcome a group of overseas teens visiting Israel as part of the Camp Ramah (Conservative) movement.  Afterwards\, Shir Hadash will host a bar mitzvah meal.
URL:https://shirhadashjerusalem.com/event/balak/
CATEGORIES:Our Events,Upcoming Events
ATTACH;FMTTYPE=image/jpeg:https://shirhadashjerusalem.com/wp-content/uploads/2022/06/ramah.jpeg
END:VEVENT
BEGIN:VEVENT
DTSTART;TZID=Asia/Jerusalem:20220715T191000
DTEND;TZID=Asia/Jerusalem:20220716T202600
DTSTAMP:20260423T013309
CREATED:20220612T050022Z
LAST-MODIFIED:20220629T111122Z
UID:3647-1657912200-1658003160@shirhadashjerusalem.com
SUMMARY:Pinchas
DESCRIPTION:Celebrate the Wedding of Rebecca Fisher and Ethan Kellen with a special kiddush sponsored by Ethan’s parents\, Phillipa and Rodney.
URL:https://shirhadashjerusalem.com/event/pinchas/
CATEGORIES:Our Events,Upcoming Events
ATTACH;FMTTYPE=image/jpeg:https://shirhadashjerusalem.com/wp-content/uploads/2022/06/jeremy-fisher-daughter.jpeg
END:VEVENT
BEGIN:VEVENT
DTSTART;TZID=Asia/Jerusalem:20220722T190700
DTEND;TZID=Asia/Jerusalem:20220723T202200
DTSTAMP:20260423T013309
CREATED:20220606T110118Z
LAST-MODIFIED:20220606T110123Z
UID:3664-1658516820-1658607720@shirhadashjerusalem.com
SUMMARY:Matot
DESCRIPTION:In addition to our regular schedule of programming\, we welcome this Shabbat a group of overseas’ teens visiting Israel under the auspices of the Camp Ramah (Conservative) movement.
URL:https://shirhadashjerusalem.com/event/matot/
CATEGORIES:Our Events,Upcoming Events
ATTACH;FMTTYPE=image/jpeg:https://shirhadashjerusalem.com/wp-content/uploads/2022/06/ramah.jpeg
END:VEVENT
BEGIN:VEVENT
DTSTART;TZID=Asia/Jerusalem:20220805T185700
DTEND;TZID=Asia/Jerusalem:20220806T202200
DTSTAMP:20260423T013309
CREATED:20220606T110249Z
LAST-MODIFIED:20220606T110254Z
UID:3666-1659725820-1659817320@shirhadashjerusalem.com
SUMMARY:Devarim / Shabbat Chazon
DESCRIPTION:In addition to our regular schedule of programming\, we welcome this Shabbat a group of overseas’ teens visiting Israel under the auspices of the Camp Ramah (Conservative) movement.
URL:https://shirhadashjerusalem.com/event/devarim-shabbat-chazon/
CATEGORIES:Our Events,Upcoming Events
ATTACH;FMTTYPE=image/jpeg:https://shirhadashjerusalem.com/wp-content/uploads/2022/06/ramah.jpeg
END:VEVENT
BEGIN:VEVENT
DTSTART;TZID=Asia/Jerusalem:20220812T185000
DTEND;TZID=Asia/Jerusalem:20220813T200300
DTSTAMP:20260423T013309
CREATED:20220612T061352Z
LAST-MODIFIED:20220612T133111Z
UID:3653-1660330200-1660420980@shirhadashjerusalem.com
SUMMARY:VaEtchanan
DESCRIPTION:Mazal Tov to David and Hennie Fialkoff who will be celebrating their 51st wedding anniversary this Shabbat.
URL:https://shirhadashjerusalem.com/event/vaetchanan-2/
CATEGORIES:Our Events,Upcoming Events
ATTACH;FMTTYPE=image/jpeg:https://shirhadashjerusalem.com/wp-content/uploads/2022/05/fialkoff-2.jpg
END:VEVENT
END:VCALENDAR