BEGIN:VCALENDAR
VERSION:2.0
PRODID:-//Shir Hadash - ECPv6.15.20//NONSGML v1.0//EN
CALSCALE:GREGORIAN
METHOD:PUBLISH
X-ORIGINAL-URL:https://shirhadashjerusalem.com
X-WR-CALDESC:Events for Shir Hadash
REFRESH-INTERVAL;VALUE=DURATION:PT1H
X-Robots-Tag:noindex
X-PUBLISHED-TTL:PT1H
BEGIN:VTIMEZONE
TZID:Asia/Jerusalem
BEGIN:DAYLIGHT
TZOFFSETFROM:+0200
TZOFFSETTO:+0300
TZNAME:IDT
DTSTART:20240329T000000
END:DAYLIGHT
BEGIN:STANDARD
TZOFFSETFROM:+0300
TZOFFSETTO:+0200
TZNAME:IST
DTSTART:20241026T230000
END:STANDARD
BEGIN:DAYLIGHT
TZOFFSETFROM:+0200
TZOFFSETTO:+0300
TZNAME:IDT
DTSTART:20250328T000000
END:DAYLIGHT
BEGIN:STANDARD
TZOFFSETFROM:+0300
TZOFFSETTO:+0200
TZNAME:IST
DTSTART:20251025T230000
END:STANDARD
BEGIN:DAYLIGHT
TZOFFSETFROM:+0200
TZOFFSETTO:+0300
TZNAME:IDT
DTSTART:20260327T000000
END:DAYLIGHT
BEGIN:STANDARD
TZOFFSETFROM:+0300
TZOFFSETTO:+0200
TZNAME:IST
DTSTART:20261024T230000
END:STANDARD
BEGIN:DAYLIGHT
TZOFFSETFROM:+0200
TZOFFSETTO:+0300
TZNAME:IDT
DTSTART:20270326T000000
END:DAYLIGHT
BEGIN:STANDARD
TZOFFSETFROM:+0300
TZOFFSETTO:+0200
TZNAME:IST
DTSTART:20271030T230000
END:STANDARD
END:VTIMEZONE
BEGIN:VEVENT
DTSTART;TZID=Asia/Jerusalem:20250913T000000
DTEND;TZID=Asia/Jerusalem:20250913T235900
DTSTAMP:20260421T232031
CREATED:20250903T071527Z
LAST-MODIFIED:20250903T071809Z
UID:4243-1757721600-1757807940@shirhadashjerusalem.com
SUMMARY:Slichot
DESCRIPTION:
URL:https://shirhadashjerusalem.com/event/slichot/
CATEGORIES:Our Events,Special,Upcoming Events
ATTACH;FMTTYPE=image/jpeg:https://shirhadashjerusalem.com/wp-content/uploads/2025/09/WhatsApp-Image-2025-09-03-at-08.57.18.jpeg
END:VEVENT
BEGIN:VEVENT
DTSTART;TZID=Asia/Jerusalem:20250919T180000
DTEND;TZID=Asia/Jerusalem:20250920T193000
DTSTAMP:20260421T232032
CREATED:20250903T074543Z
LAST-MODIFIED:20250907T103647Z
UID:4248-1758304800-1758396600@shirhadashjerusalem.com
SUMMARY:Marty Pear Memorial Scholar-in-Residence Shabbaton
DESCRIPTION:Endowed by Robert and Diane Abrams \n\n\n\n\n\n\n\n\nThe innaugeral Scholars-in-Residence will be Sherri and Rabbi Seth Mandel.  They are the parents of Koby Mandell\, z”l\, who was murdered at age 13 near his home in Tekoa in May 2001. Sherri and Rabbi Seth founded the Koby Mandell Foundation to perpetuate his memory.  The foundation provides emotional support and healing for victims of terror\, loss\, and trauma. Its efforts are designed to foster resilience\, provide a sense of belonging\, and help families heal after experiencing profound pain and loss.  Sherri is also the author of a number of books\, including the award winning The Blessing of a Broken Heart. \n\n\n\n \n\n\n\n \n\n\n\nMarty Pear was the father of our Rabbi\, as well as a beloved life-long Jewish Communal worker.  In his last professional position\, he served as the Executive Director of the Jewish Community Center of Greater Phoenix.  Since his passing\, a JCC Israel Education Program was established in his memory\, the Marty Pear Israel Fellows.  To learn more\, either about Marty or the Fellowship Program\, click on their respective links.  The JCC building in Phoenix is dedicated to his memory. \n\n\n\nThis annual Shabbaton or lecture was endowed by Robert and Diane Abrams to further perpetuate the memory of Marty. \n\n\n\n\n\n\n\n\n\n\n\n\n\nMarty Pear Shabbaton FlyerDownload
URL:https://shirhadashjerusalem.com/event/marty-pear-memorial-scholar-in-residence-shabbaton/
CATEGORIES:Our Events,Special,Upcoming Events
ATTACH;FMTTYPE=image/jpeg:https://shirhadashjerusalem.com/wp-content/uploads/2025/09/f9cffd02-dd78-4d10-bfad-2e0b9192a4e4.jpg
END:VEVENT
BEGIN:VEVENT
DTSTART;TZID=Asia/Jerusalem:20250922T080000
DTEND;TZID=Asia/Jerusalem:20250924T170000
DTSTAMP:20260421T232032
CREATED:20250904T083912Z
LAST-MODIFIED:20250922T105627Z
UID:4260-1758528000-1758733200@shirhadashjerusalem.com
SUMMARY:Rosh Hashana Schedule
DESCRIPTION:MONDAY MORNING \n\n\n\nSlichot 7:30 AM          \n\n\n\nShacharit 8:15 AM  \n\n\n\nHatarat Nedarim 9:05 AM       \n\n\n\nDaf Yomi 9:20 AM                 \n\n\n\nMONDAY NIGHT \n\n\n\nCandles 6 PM \n\n\n\nMINCHA 6:25 PM\, followed by a drasha from Community Scholar Jennifer Raskas: “The Journey from Rosh Hashana (Din) to Yom Kipur (Rachamim)” \n\n\n\nMAARIV 6:59 PM \n\n\n\nTUESDAY \n\n\n\nSHACHARIT 8 AM \n\n\n\nTORAH 9:15 AM\, read by Steven Antosofsky\, followed by Drasha \n\n\n\nSHOFAR 10:15 AM\, by Dave Preston \n\n\n\nMUSAF 10:30 AM \n\n\n\nCHILDREN’S PROGRAMMING 10:30 AM – 12:15 PM \n\n\n\nCONCLUSION 12:30 PM \n\n\n\nTASHLICH 6 PM AT ROSE PARK \n\n\n\nMINCHA 6:20 PM\, followed by Drasha from Rabbi Simon Levy \n\n\n\nCANDLES AFTER 7:11 PM (from pre-existing flame) \n\n\n\nMAARIV 6:58 PM \n\n\n\nWEDNESDAY \n\n\n\nSHACHARIT 8:00 AM \n\n\n\n TORAH 9:15 AM\, read by Steven Antosofsky\, followed by Drasha                \n\n\n\nSHOFAR 10 AM\, by Jeffrey Rashba                                                                         \n\n\n\nCHILDREN 10:30 – 12:15 AM \n\n\n\nMUSAF 10:15 AM \n\n\n\nCONCLUSION 12:15 AM \n\n\n\nKIDDUSH LUNCH \n\n\n\nMINCHA 1 PM \n\n\n\nCHAG ENDS 7:10 PM
URL:https://shirhadashjerusalem.com/event/rosh-hashana-schedule/
CATEGORIES:Our Events,Special,Upcoming Events
ATTACH;FMTTYPE=image/jpeg:https://shirhadashjerusalem.com/wp-content/uploads/2019/08/roshhashana-e1565273092840.jpg
END:VEVENT
BEGIN:VEVENT
DTSTART;TZID=Asia/Jerusalem:20250927T083000
DTEND;TZID=Asia/Jerusalem:20250927T113000
DTSTAMP:20260421T232032
CREATED:20250903T175244Z
LAST-MODIFIED:20250903T175245Z
UID:4252-1758961800-1758972600@shirhadashjerusalem.com
SUMMARY:Shabbat Shuva
DESCRIPTION:Draft – Shabbat Shuva AdDownload
URL:https://shirhadashjerusalem.com/event/shabbat-shuva/
CATEGORIES:Our Events,Special,Upcoming Events
ATTACH;FMTTYPE=application/pdf:https://shirhadashjerusalem.com/wp-content/uploads/2025/09/Draft-Shabbat-Shuva-Ad-1.pdf
END:VEVENT
BEGIN:VEVENT
DTSTART;TZID=Asia/Jerusalem:20250930T080000
DTEND;TZID=Asia/Jerusalem:20250930T170000
DTSTAMP:20260421T232032
CREATED:20250904T074939Z
LAST-MODIFIED:20250907T103818Z
UID:4256-1759219200-1759251600@shirhadashjerusalem.com
SUMMARY:Special Elul Programming
DESCRIPTION:Elul ClassesDownload
URL:https://shirhadashjerusalem.com/event/special-elul-programming/
CATEGORIES:Our Events,Special,Upcoming Events
ATTACH;FMTTYPE=image/jpeg:https://shirhadashjerusalem.com/wp-content/uploads/2025/09/Elul-Classes-1.jpeg
END:VEVENT
BEGIN:VEVENT
DTSTART;TZID=Asia/Jerusalem:20260212T200000
DTEND;TZID=Asia/Jerusalem:20260212T210000
DTSTAMP:20260421T232032
CREATED:20260129T133851Z
LAST-MODIFIED:20260129T133856Z
UID:4284-1770926400-1770930000@shirhadashjerusalem.com
SUMMARY:Comedy Show
DESCRIPTION:David Kiliminick returns to Jerusalem\, bringing his unique humor to topics like Aliya\, being religious\, America Jewry and why Ethel is now running security for his shul.
URL:https://shirhadashjerusalem.com/event/comedy-show/
CATEGORIES:Our Events,Special,Upcoming Events
ATTACH;FMTTYPE=image/png:https://shirhadashjerusalem.com/wp-content/uploads/2026/01/David-Kilimnick-stand-up-Jerusalem-Style.png
END:VEVENT
END:VCALENDAR