BEGIN:VCALENDAR
VERSION:2.0
PRODID:-//Shir Hadash - ECPv6.15.20//NONSGML v1.0//EN
CALSCALE:GREGORIAN
METHOD:PUBLISH
X-ORIGINAL-URL:https://shirhadashjerusalem.com
X-WR-CALDESC:Events for Shir Hadash
REFRESH-INTERVAL;VALUE=DURATION:PT1H
X-Robots-Tag:noindex
X-PUBLISHED-TTL:PT1H
BEGIN:VTIMEZONE
TZID:Asia/Jerusalem
BEGIN:DAYLIGHT
TZOFFSETFROM:+0200
TZOFFSETTO:+0300
TZNAME:IDT
DTSTART:20180323T000000
END:DAYLIGHT
BEGIN:STANDARD
TZOFFSETFROM:+0300
TZOFFSETTO:+0200
TZNAME:IST
DTSTART:20181027T230000
END:STANDARD
BEGIN:DAYLIGHT
TZOFFSETFROM:+0200
TZOFFSETTO:+0300
TZNAME:IDT
DTSTART:20190329T000000
END:DAYLIGHT
BEGIN:STANDARD
TZOFFSETFROM:+0300
TZOFFSETTO:+0200
TZNAME:IST
DTSTART:20191026T230000
END:STANDARD
BEGIN:DAYLIGHT
TZOFFSETFROM:+0200
TZOFFSETTO:+0300
TZNAME:IDT
DTSTART:20200327T000000
END:DAYLIGHT
BEGIN:STANDARD
TZOFFSETFROM:+0300
TZOFFSETTO:+0200
TZNAME:IST
DTSTART:20201024T230000
END:STANDARD
BEGIN:DAYLIGHT
TZOFFSETFROM:+0200
TZOFFSETTO:+0300
TZNAME:IDT
DTSTART:20210326T000000
END:DAYLIGHT
BEGIN:STANDARD
TZOFFSETFROM:+0300
TZOFFSETTO:+0200
TZNAME:IST
DTSTART:20211030T230000
END:STANDARD
END:VTIMEZONE
BEGIN:VEVENT
DTSTART;TZID=Asia/Jerusalem:20201103T120000
DTEND;TZID=Asia/Jerusalem:20201103T123000
DTSTAMP:20260423T072021
CREATED:20201029T083452Z
LAST-MODIFIED:20201029T084252Z
UID:3093-1604404800-1604406600@shirhadashjerusalem.com
SUMMARY:Pirkei Avot Study
DESCRIPTION:Join us TUESDAY AFTERNOONS for a weekly study of the ethical and philosophical principles most cherished by our Rabbis of old.  Noon (12 PM) for about 30 minutes.  Facilitated by Rabbi Pear.  Click here for the Zoom link.
URL:https://shirhadashjerusalem.com/event/pirkei-avot-study/
CATEGORIES:Our Events,Upcoming Events
ATTACH;FMTTYPE=image/jpeg:https://shirhadashjerusalem.com/wp-content/uploads/2020/10/pirkeiavot-larger-image.jpg
END:VEVENT
BEGIN:VEVENT
DTSTART;TZID=Asia/Jerusalem:20201101T090000
DTEND;TZID=Asia/Jerusalem:20201231T100000
DTSTAMP:20260423T072021
CREATED:20201020T114755Z
LAST-MODIFIED:20201029T083714Z
UID:3115-1604221200-1609408800@shirhadashjerusalem.com
SUMMARY:Daf Yomi
DESCRIPTION:Learn daf yomi with Rabbi Dov Kidron each morning Sunday – Friday from 9 – 10 AM.  This class is available on this Zoom link\, as well as in person at Shir Hadash.
URL:https://shirhadashjerusalem.com/event/daf-yomi-2/
CATEGORIES:Our Events,Upcoming Events
ATTACH;FMTTYPE=image/jpeg:https://shirhadashjerusalem.com/wp-content/uploads/2020/05/talmud.jpg
END:VEVENT
BEGIN:VEVENT
DTSTART;TZID=Asia/Jerusalem:20201101T081500
DTEND;TZID=Asia/Jerusalem:20201231T090000
DTSTAMP:20260423T072021
CREATED:20201020T115320Z
LAST-MODIFIED:20201029T082520Z
UID:3117-1604218500-1609405200@shirhadashjerusalem.com
SUMMARY:Weekday Morning Minyan
DESCRIPTION:Join our weekday Shacharit Sunday through Friday at 8:15 AM.  Same time for Rosh Chodesh\, Fast Days and Chol HaMoed (our Shabbat morning tephilla is at 8:45 AM).  During Corona\, all tephillot are outside.
URL:https://shirhadashjerusalem.com/event/weekday-morning-minyan/
CATEGORIES:Our Events,Upcoming Events
END:VEVENT
BEGIN:VEVENT
DTSTART;TZID=Asia/Jerusalem:20200909T210000
DTEND;TZID=Asia/Jerusalem:20200909T220000
DTSTAMP:20260423T072021
CREATED:20200908T153802Z
LAST-MODIFIED:20200908T154209Z
UID:3055-1599685200-1599688800@shirhadashjerusalem.com
SUMMARY:Yahrzeit Shiur: Is Teshuvah Enough for Corrupt Politicians?
DESCRIPTION:Rabbi Pear will offer a talk in commemoration of the 2nd yahrzeit of his father\, Moshe ben Shmuel (Martin K. Pear). The topic this year relates to how different legal systems – the US Constitution\, Israeli Law and Halacha – view a convicted politician’s right to stand for election … a topic not only relevant given today’s political climate\, but also deeply connected to the spirit of the upcoming High Holydays. The talk will appear on Shir Hadash’s FB Group\, as well as on Zoom and in person at Shir Hadash. \n  \n 
URL:https://shirhadashjerusalem.com/event/yahrzeit-shiur-is-teshuvah-enough-for-corrupt-politicians/
CATEGORIES:Our Events,Special,Upcoming Events
ATTACH;FMTTYPE=image/jpeg:https://shirhadashjerusalem.com/wp-content/uploads/2020/09/corruption.jpg
END:VEVENT
BEGIN:VEVENT
DTSTART;TZID=Asia/Jerusalem:20200621T132000
DTEND;TZID=Asia/Jerusalem:20200625T133000
DTSTAMP:20260423T072021
CREATED:20200526T150300Z
LAST-MODIFIED:20200526T150550Z
UID:3010-1592745600-1593091800@shirhadashjerusalem.com
SUMMARY:Mincha G'dola
DESCRIPTION:Shir Hadash hosts a mincha g’dola each weekday Sunday through Thursday at 1:20 PM.  Following the minyan\, Rabbi Pear learns a Mishna a day.  This learning can be found on our Facebook Group as well as in the archives on our YouTube channel.
URL:https://shirhadashjerusalem.com/event/mincha-gdola-3/
CATEGORIES:Our Events
ATTACH;FMTTYPE=image/jpeg:https://shirhadashjerusalem.com/wp-content/uploads/2020/05/sidurlarge.jpg
END:VEVENT
BEGIN:VEVENT
DTSTART;TZID=Asia/Jerusalem:20200614T132000
DTEND;TZID=Asia/Jerusalem:20200618T133000
DTSTAMP:20260423T072021
CREATED:20200526T150721Z
LAST-MODIFIED:20200526T150721Z
UID:3012-1592140800-1592487000@shirhadashjerusalem.com
SUMMARY:Mincha G'dola
DESCRIPTION:Shir Hadash hosts a mincha g’dola each weekday Sunday through Thursday at 1:20 PM.  Following the minyan\, Rabbi Pear learns a Mishna a day.  This learning can be found on our Facebook Group as well as in the archives on our YouTube channel.
URL:https://shirhadashjerusalem.com/event/mincha-gdola-4/
CATEGORIES:Our Events
ATTACH;FMTTYPE=image/jpeg:https://shirhadashjerusalem.com/wp-content/uploads/2020/05/sidurlarge.jpg
END:VEVENT
BEGIN:VEVENT
DTSTART;TZID=Asia/Jerusalem:20200607T132000
DTEND;TZID=Asia/Jerusalem:20200611T133000
DTSTAMP:20260423T072021
CREATED:20200526T145458Z
LAST-MODIFIED:20200526T145727Z
UID:3005-1591536000-1591882200@shirhadashjerusalem.com
SUMMARY:Mincha G'dola
DESCRIPTION:Shir Hadash hosts a mincha g’dola each weekday Sunday through Thursday at 1:20 PM.  Following the minyan\, Rabbi Pear learns a Mishna a day.  This learning can be found on our Facebook Group as well as in the archives on our YouTube channel.
URL:https://shirhadashjerusalem.com/event/mincha-gdola-2/
CATEGORIES:Our Events
ATTACH;FMTTYPE=image/jpeg:https://shirhadashjerusalem.com/wp-content/uploads/2020/05/sidurlarge.jpg
END:VEVENT
BEGIN:VEVENT
DTSTART;TZID=Asia/Jerusalem:20200601T132000
DTEND;TZID=Asia/Jerusalem:20200604T133000
DTSTAMP:20260423T072021
CREATED:20200526T150122Z
LAST-MODIFIED:20200526T150122Z
UID:3008-1591017600-1591277400@shirhadashjerusalem.com
SUMMARY:Mincha G'dola
DESCRIPTION:Shir Hadash hosts a mincha g’dola each weekday Sunday through Thursday at 1:20 PM.  Following the minyan\, Rabbi Pear learns a Mishna a day.  This learning can be found on our Facebook Group as well as in the archives on our YouTube channel.
URL:https://shirhadashjerusalem.com/event/mincha-gdola/
CATEGORIES:Our Events
ATTACH;FMTTYPE=image/jpeg:https://shirhadashjerusalem.com/wp-content/uploads/2020/05/sidurlarge.jpg
END:VEVENT
BEGIN:VEVENT
DTSTART;TZID=Asia/Jerusalem:20200601T081500
DTEND;TZID=Asia/Jerusalem:20200831T090000
DTSTAMP:20260423T072021
CREATED:20200526T144501Z
LAST-MODIFIED:20200526T151059Z
UID:2999-1590999300-1598864400@shirhadashjerusalem.com
SUMMARY:Shacharit
DESCRIPTION:Our weekday Shacharit minyan meets daily at 8:15 AM. \nOur Shabbat and Chag Shacharit meets at 8:45 AM. \nShabbat Chol HaMoed Shacharit meets at 8:30 AM \nRosh Hashana Shacharit meets at 8:00 AM \nYom Kipur Shacharit meets at 8:30 AM \nSimchat Torah Shacharit meets at 8:30 AM \nFirst day of Pesach (following leil haseder) Shacharit meets at 9:00 AM
URL:https://shirhadashjerusalem.com/event/shacharit-2/
LOCATION:shir hadash\, Yakov Rubin #1\, jerusalem\, Jerusalem\, 93111\, Israel
CATEGORIES:Our Events
ATTACH;FMTTYPE=image/jpeg:https://shirhadashjerusalem.com/wp-content/uploads/2020/05/talit.jpg
END:VEVENT
BEGIN:VEVENT
DTSTART;TZID=Asia/Jerusalem:20200531T110000
DTEND;TZID=Asia/Jerusalem:20200531T120000
DTSTAMP:20260423T072021
CREATED:20200512T133717Z
LAST-MODIFIED:20200512T133717Z
UID:2943-1590922800-1590926400@shirhadashjerusalem.com
SUMMARY:Parsha Plus
DESCRIPTION:Every Sunday morning at 11 AM Peta Pellach shares her innovative insights on the week’s Torah portion.  At present\, this shiur meets over Zoom — e-mail petapellach@gmail.com for the specific invite — and on our Facebook Group.
URL:https://shirhadashjerusalem.com/event/parsha-plus-8/
CATEGORIES:Our Events
ATTACH;FMTTYPE=image/jpeg:https://shirhadashjerusalem.com/wp-content/uploads/2019/10/peta.jpg
END:VEVENT
BEGIN:VEVENT
DTSTART;TZID=Asia/Jerusalem:20200530T192000
DTEND;TZID=Asia/Jerusalem:20200530T203000
DTSTAMP:20260423T072021
CREATED:20200526T143918Z
LAST-MODIFIED:20200526T143918Z
UID:2996-1590866400-1590870600@shirhadashjerusalem.com
SUMMARY:Shabbat Afternoon Schedule
DESCRIPTION:As part of the return to our building – a process that will be accented by hosting programs with a smaller number of people prior to graduating to events with a larger number of people – we will conduct our first Shabbat services in the afternoon and evening of Shabbat Parshat Naso\, May 30th. \nThe schedule will include: \nShabbat Afternoon\, 7:20 PM: Mincha \n7:40 PM Shiur on Sefer Shmuel with Rabbi Pear \n8:10 PM Maariv \n8:20 PM Shabbat Ends
URL:https://shirhadashjerusalem.com/event/shabbat-afternoon-schedule/
LOCATION:shir hadash\, Yakov Rubin #1\, jerusalem\, Jerusalem\, 93111\, Israel
CATEGORIES:Our Events,Special,Upcoming Events
ATTACH;FMTTYPE=image/jpeg:https://shirhadashjerusalem.com/wp-content/uploads/2020/05/naso.jpg
END:VEVENT
BEGIN:VEVENT
DTSTART;TZID=Asia/Jerusalem:20200528T234500
DTEND;TZID=Asia/Jerusalem:20200529T073000
DTSTAMP:20260423T072021
CREATED:20200526T143034Z
LAST-MODIFIED:20200526T143158Z
UID:2994-1590709500-1590737400@shirhadashjerusalem.com
SUMMARY:Tikun Leil
DESCRIPTION:TIKUN LEIL SCHEDULE\nOur all-night learning program will take place this year at our new building located at Yakov Rubin Street #1.  Seats will be properly distanced and masks are required to be worn at all times inside the building.  Refreshments – served via waitstaff – will be provided during the course of the night. \n\n\n\n\n\n\n\n\n\n\n\nNurse Rachel Gemara\nPresents at 2 AM\n\n\n\n\n  \nReservations may be made for any particular class – or all the classes – by e-mailing shirhadash613@gmail.com.  For those who do not reserve\, seating will be on a first come\, first served basis; once all s eats are full\, we will no longer permit entrance for that particular class.\n  \n \n11:45 PM\nDoors Open.\n \n12:00 AM\n  \nInside Room: Rabbi Shimon Felix\, Founding Director of Regarding Israel\, on: ” Two Heads are Better Than One: How to Learn Torah – the Right Way!”\n  \nOutside: Rabbi Hayim Leiter\, Mohel and Founder of Magen HaBrit\, on “Brit Mila in our Time”\n  \n1:00 AM\n \nInside: Rabbi Yosef Ote\, Rabbi of Congregation Hovevei Zion\, on “Beware of Torah Learning: It can Sustain but it can also Destroy”\n\n2:00 AM\n\nInside: Rachel Gemara\, Nurse in Sharey Tzedek Hospital’s Corona Ward\, on “Corona Tales: The Inside – and Inspirational – Story”\n\n3:00 AM\n\nInside: Rabbi Ian Pear on “Worms\, Weapons and Wonders”\n\n\n4:15 AM Megilat Ruth\n\n4:50 AM Tephilla Begins\n  \n5:35 AM Neitz HaChama
URL:https://shirhadashjerusalem.com/event/tikun-leil/
LOCATION:shir hadash\, Yakov Rubin #1\, jerusalem\, Jerusalem\, 93111\, Israel
CATEGORIES:Our Events,Special,Upcoming Events
ATTACH;FMTTYPE=image/jpeg:https://shirhadashjerusalem.com/wp-content/uploads/2020/05/rachelgemara2.jpg
END:VEVENT
BEGIN:VEVENT
DTSTART;TZID=Asia/Jerusalem:20200528T110000
DTEND;TZID=Asia/Jerusalem:20200528T120000
DTSTAMP:20260423T072021
CREATED:20200512T134801Z
LAST-MODIFIED:20200512T134801Z
UID:2956-1590663600-1590667200@shirhadashjerusalem.com
SUMMARY:Maharal on Pirkei Avot
DESCRIPTION:Every Thursday morning at 11 AM Rabbi Gedaliah Gurfein shares his insights on the fascinating works of the Maharal on Pirkei Avot.  At present\, this shiur meets on Zoom here.
URL:https://shirhadashjerusalem.com/event/maharal-on-pirkei-avot-3/
CATEGORIES:Our Events
ATTACH;FMTTYPE=image/png:https://shirhadashjerusalem.com/wp-content/uploads/2016/12/Gedaliah-e1564952949653.png
END:VEVENT
BEGIN:VEVENT
DTSTART;TZID=Asia/Jerusalem:20200527T110000
DTEND;TZID=Asia/Jerusalem:20200527T120000
DTSTAMP:20260423T072021
CREATED:20200512T202046Z
LAST-MODIFIED:20200512T203118Z
UID:2963-1590577200-1590580800@shirhadashjerusalem.com
SUMMARY:Foundations - The Learner's Minyan
DESCRIPTION:Every Wednesday at 11 AM Rabbi Pear provides a foundational introduction to the Sidur.  At present\, this class is both on our Facebook Group as well as at our building.
URL:https://shirhadashjerusalem.com/event/great-jewish-ideas-psalms-3/
CATEGORIES:Our Events
ATTACH;FMTTYPE=image/jpeg:https://shirhadashjerusalem.com/wp-content/uploads/2019/08/RabbiPear1.jpg
END:VEVENT
BEGIN:VEVENT
DTSTART;TZID=Asia/Jerusalem:20200526T110000
DTEND;TZID=Asia/Jerusalem:20200526T120000
DTSTAMP:20260423T072021
CREATED:20200512T134039Z
LAST-MODIFIED:20200512T134039Z
UID:2948-1590490800-1590494400@shirhadashjerusalem.com
SUMMARY:The Book of Daniel
DESCRIPTION:Every Tuesday morning at 11 AM Rabbi Robert Rhodes shares his insights on the fascinating and little understood Book of Daniel.  At present\, this shiur meets on our Facebook Group.
URL:https://shirhadashjerusalem.com/event/the-book-of-daniel-2/
CATEGORIES:Our Events
ATTACH;FMTTYPE=image/jpeg:https://shirhadashjerusalem.com/wp-content/uploads/2020/05/danielinlionsden.jpg
END:VEVENT
BEGIN:VEVENT
DTSTART;TZID=Asia/Jerusalem:20200525T110000
DTEND;TZID=Asia/Jerusalem:20200525T120000
DTSTAMP:20260423T072021
CREATED:20200512T201940Z
LAST-MODIFIED:20200513T054719Z
UID:2961-1590404400-1590408000@shirhadashjerusalem.com
SUMMARY:Great Jewish Ideas - Psalms
DESCRIPTION:Every Monday morning at 11 AM Peta Pellach shares her insights on this foundational book of poetry and philosophy.  At present\, this class is on Zoom — to receive an invite and source sheets\, e-mail petapellach@gmail.com.
URL:https://shirhadashjerusalem.com/event/great-jewish-ideas-psalms-2/
CATEGORIES:Our Events
ATTACH;FMTTYPE=image/jpeg:https://shirhadashjerusalem.com/wp-content/uploads/2019/10/peta.jpg
END:VEVENT
BEGIN:VEVENT
DTSTART;TZID=Asia/Jerusalem:20200524T110000
DTEND;TZID=Asia/Jerusalem:20200524T120000
DTSTAMP:20260423T072021
CREATED:20200512T133614Z
LAST-MODIFIED:20200512T133614Z
UID:2941-1590318000-1590321600@shirhadashjerusalem.com
SUMMARY:Parsha Plus
DESCRIPTION:Every Sunday morning at 11 AM Peta Pellach shares her innovative insights on the week’s Torah portion.  At present\, this shiur meets over Zoom — e-mail petapellach@gmail.com for the specific invite — and on our Facebook Group.
URL:https://shirhadashjerusalem.com/event/parsha-plus-7/
CATEGORIES:Our Events
ATTACH;FMTTYPE=image/jpeg:https://shirhadashjerusalem.com/wp-content/uploads/2019/10/peta.jpg
END:VEVENT
BEGIN:VEVENT
DTSTART;TZID=Asia/Jerusalem:20200521T110000
DTEND;TZID=Asia/Jerusalem:20200521T120000
DTSTAMP:20260423T072021
CREATED:20200512T134710Z
LAST-MODIFIED:20200512T134710Z
UID:2954-1590058800-1590062400@shirhadashjerusalem.com
SUMMARY:Maharal on Pirkei Avot
DESCRIPTION:Every Thursday morning at 11 AM Rabbi Gedaliah Gurfein shares his insights on the fascinating works of the Maharal on Pirkei Avot.  At present\, this shiur meets on Zoom here.
URL:https://shirhadashjerusalem.com/event/maharal-on-pirkei-avot-2/
CATEGORIES:Our Events
ATTACH;FMTTYPE=image/png:https://shirhadashjerusalem.com/wp-content/uploads/2016/12/Gedaliah-e1564952949653.png
END:VEVENT
BEGIN:VEVENT
DTSTART;TZID=Asia/Jerusalem:20200520T080000
DTEND;TZID=Asia/Jerusalem:20200520T170000
DTSTAMP:20260423T072021
CREATED:20200513T054306Z
LAST-MODIFIED:20200513T054428Z
UID:2967-1589961600-1589994000@shirhadashjerusalem.com
SUMMARY:Foundations-The Learner's Minyan
DESCRIPTION:Join Rabbi Pear as he explores the Sidur.  This is an introductory class.  At present\, this class is on Zoom; e-mail shirhadash613@gmail.com to receive the invite.
URL:https://shirhadashjerusalem.com/event/great-jewish-ideas-psalms-4/
CATEGORIES:Our Events
END:VEVENT
BEGIN:VEVENT
DTSTART;TZID=Asia/Jerusalem:20200519T110000
DTEND;TZID=Asia/Jerusalem:20200519T120000
DTSTAMP:20260423T072021
CREATED:20200512T133944Z
LAST-MODIFIED:20200512T133944Z
UID:2945-1589886000-1589889600@shirhadashjerusalem.com
SUMMARY:The Book of Daniel
DESCRIPTION:Every Tuesday morning at 11 AM Rabbi Robert Rhodes shares his insights on the fascinating and little understood Book of Daniel.  At present\, this shiur meets on our Facebook Group.
URL:https://shirhadashjerusalem.com/event/the-book-of-daniel/
CATEGORIES:Our Events
ATTACH;FMTTYPE=image/jpeg:https://shirhadashjerusalem.com/wp-content/uploads/2020/05/danielinlionsden.jpg
END:VEVENT
BEGIN:VEVENT
DTSTART;TZID=Asia/Jerusalem:20200518T110000
DTEND;TZID=Asia/Jerusalem:20200518T120000
DTSTAMP:20260423T072021
CREATED:20200512T201228Z
LAST-MODIFIED:20200512T201228Z
UID:2958-1589799600-1589803200@shirhadashjerusalem.com
SUMMARY:Great Jewish Ideas - Psalms
DESCRIPTION:Every Monday morning at 11 AM Peta Pellach shares her insights on this foundational book of poetry and philosophy.  At present\, this class is on Zoom — to receive an invite and source sheets\, e-mail petapellach@gmail.com.
URL:https://shirhadashjerusalem.com/event/great-jewish-ideas-psalms/
CATEGORIES:Our Events
ATTACH;FMTTYPE=image/jpeg:https://shirhadashjerusalem.com/wp-content/uploads/2019/10/peta.jpg
END:VEVENT
BEGIN:VEVENT
DTSTART;TZID=Asia/Jerusalem:20200517T110000
DTEND;TZID=Asia/Jerusalem:20200517T120000
DTSTAMP:20260423T072021
CREATED:20200512T133217Z
LAST-MODIFIED:20200512T133217Z
UID:2939-1589713200-1589716800@shirhadashjerusalem.com
SUMMARY:Parsha Plus
DESCRIPTION:Every Sunday morning at 11 AM Peta Pellach shares her innovative insights on the week’s Torah portion.  At present\, this shiur meets over Zoom — e-mail petapellach@gmail.com for the specific invite — and on our Facebook Group.  p
URL:https://shirhadashjerusalem.com/event/parsha-plus-6/
CATEGORIES:Our Events
ATTACH;FMTTYPE=image/jpeg:https://shirhadashjerusalem.com/wp-content/uploads/2019/10/peta.jpg
END:VEVENT
BEGIN:VEVENT
DTSTART;TZID=Asia/Jerusalem:20200514T110000
DTEND;TZID=Asia/Jerusalem:20200514T120000
DTSTAMP:20260423T072021
CREATED:20200512T134610Z
LAST-MODIFIED:20200512T134610Z
UID:2952-1589454000-1589457600@shirhadashjerusalem.com
SUMMARY:Maharal on Pirkei Avot
DESCRIPTION:Every Thursday morning at 11 AM Rabbi Gedaliah Gurfein shares his insights on the fascinating works of the Maharal on Pirkei Avot.  At present\, this shiur meets on Zoom here.
URL:https://shirhadashjerusalem.com/event/maharal-on-pirkei-avot/
CATEGORIES:Our Events
ATTACH;FMTTYPE=image/png:https://shirhadashjerusalem.com/wp-content/uploads/2016/12/Gedaliah-e1564952949653.png
END:VEVENT
BEGIN:VEVENT
DTSTART;TZID=Asia/Jerusalem:20200513T110000
DTEND;TZID=Asia/Jerusalem:20200513T120000
DTSTAMP:20260423T072021
CREATED:20200512T134321Z
LAST-MODIFIED:20200512T134321Z
UID:2950-1589367600-1589371200@shirhadashjerusalem.com
SUMMARY:Foundations
DESCRIPTION:Every Wednesday morning at 11 AM Rabbi Ian Pear shares his insights on the Foundations of Judaism.  This is an introductory class on Judaism.  This shiur meets both at our building and on our Facebook Group.
URL:https://shirhadashjerusalem.com/event/foundations/
CATEGORIES:Our Events
ATTACH;FMTTYPE=image/png:https://shirhadashjerusalem.com/wp-content/uploads/2019/07/1.png
END:VEVENT
BEGIN:VEVENT
DTSTART;TZID=Asia/Jerusalem:20191126T113000
DTEND;TZID=Asia/Jerusalem:20191126T123000
DTSTAMP:20260423T072021
CREATED:20191022T193140Z
LAST-MODIFIED:20191022T193140Z
UID:1836-1574767800-1574771400@shirhadashjerusalem.com
SUMMARY:Law & Order
DESCRIPTION:Rabbi Pear’s weekly class exploring the 613 Commandments and the interaction between Jewish law and Israeli law meets at 11:30 AM at the OU Israel Center\, Keren HaYesod 22.  Meets every Tuesday in November.
URL:https://shirhadashjerusalem.com/event/law-order-4/
CATEGORIES:Our Events,Upcoming Events
ATTACH;FMTTYPE=image/jpeg:https://shirhadashjerusalem.com/wp-content/uploads/2019/08/613-e1603108368943.jpg
END:VEVENT
BEGIN:VEVENT
DTSTART;VALUE=DATE:20191123
DTEND;VALUE=DATE:20191124
DTSTAMP:20260423T072021
CREATED:20190808T142257Z
LAST-MODIFIED:20191022T191456Z
UID:1654-1574467200-1574553599@shirhadashjerusalem.com
SUMMARY:Chayai Sara
DESCRIPTION:FRIDAY NIGHT \nCandles 4:01 PM \nMincha 4:26 PM \nFollowed by Carlebach Style Kabalat Shabbat & Ma’ariv \n  \nSHABBAT MORNING \nPre-Shacharit Shiur 8 AM \nShacharit 8:45 AM \nKid’s Service 10:15 AM \nKiddush\, Sponsored by Sharona and Avichai Elgavish in celebration of the Shabbat Chatan of their son\, Ronen 11 AM \nMincha Gedola 11:51 PM \nShabbat Ends 5:15 PM
URL:https://shirhadashjerusalem.com/event/shabbat-reeh-2/
CATEGORIES:Our Events,Upcoming Events
ATTACH;FMTTYPE=image/jpeg:https://shirhadashjerusalem.com/wp-content/uploads/2017/01/shabbat.jpg
END:VEVENT
BEGIN:VEVENT
DTSTART;TZID=Asia/Jerusalem:20191119T113000
DTEND;TZID=Asia/Jerusalem:20191119T123000
DTSTAMP:20260423T072021
CREATED:20191022T193032Z
LAST-MODIFIED:20191022T193032Z
UID:1837-1574163000-1574166600@shirhadashjerusalem.com
SUMMARY:Law & Order
DESCRIPTION:Rabbi Pear’s weekly class exploring the 613 Commandments and the interaction between Jewish law and Israeli law meets at 11:30 AM at the OU Israel Center\, Keren HaYesod 22.  Meets every Tuesday in November.
URL:https://shirhadashjerusalem.com/event/law-order-3/
CATEGORIES:Our Events,Upcoming Events
ATTACH;FMTTYPE=image/jpeg:https://shirhadashjerusalem.com/wp-content/uploads/2019/08/613-e1603108368943.jpg
END:VEVENT
BEGIN:VEVENT
DTSTART;VALUE=DATE:20191116
DTEND;VALUE=DATE:20191117
DTSTAMP:20260423T072021
CREATED:20191022T185940Z
LAST-MODIFIED:20191022T191009Z
UID:1815-1573862400-1573948799@shirhadashjerusalem.com
SUMMARY:VaYera
DESCRIPTION:Come celebrate a ‘Shlomo’ Shabbat in commemoration of the Yahrzeit of Rabbi Shlomo Carlebach. \nCandles 4:04 PM \nMincha 4:29 PM \nKabalat Shabbat with special guest ba’al tephilla 4:40 PM \nPre-Shacharit Shiur 8 AM \nShacharit 8:45 AM \nKid’s Service 10:15 AM \nKiddush 11 AM\, sponsored by Preston and Green families \nMincha Gedola 11:50 AM \nShabbat Ends 5:17 PM
URL:https://shirhadashjerusalem.com/event/vayera/
CATEGORIES:Our Events,Upcoming Events
ATTACH;FMTTYPE=image/jpeg:https://shirhadashjerusalem.com/wp-content/uploads/2019/10/shlomocarlebach.jpg
END:VEVENT
BEGIN:VEVENT
DTSTART;TZID=Asia/Jerusalem:20191112T113000
DTEND;TZID=Asia/Jerusalem:20191112T123000
DTSTAMP:20260423T072021
CREATED:20191022T192808Z
LAST-MODIFIED:20191022T193107Z
UID:1835-1573558200-1573561800@shirhadashjerusalem.com
SUMMARY:Law & Order
DESCRIPTION:Rabbi Pear’s weekly class exploring the 613 Commandments and the interaction between Jewish law and Israeli law meets at 11:30 AM at the OU Israel Center\, Keren HaYesod 22.  Meets every Tuesday in November.
URL:https://shirhadashjerusalem.com/event/law-order-2/
CATEGORIES:Our Events,Upcoming Events
ATTACH;FMTTYPE=image/jpeg:https://shirhadashjerusalem.com/wp-content/uploads/2019/08/613-e1603108368943.jpg
END:VEVENT
BEGIN:VEVENT
DTSTART;VALUE=DATE:20191109
DTEND;VALUE=DATE:20191110
DTSTAMP:20260423T072021
CREATED:20191022T174458Z
LAST-MODIFIED:20191022T190232Z
UID:1812-1573257600-1573343999@shirhadashjerusalem.com
SUMMARY:Lech Lecha
DESCRIPTION:Candles 4:09 PM \nMincha 4:34 PM \nKabalat Shabbat 4:45 PM \nPre Shacharit Shiur 8 AM \nShacharit 8:45 AM \nKid’s Service 10:15 AM \nKiddush 11 AM\, sponsored by Baruch and Aviva Serenge \nMincha Gedola 11:49 AM \nShabbat Ends 5:21PM
URL:https://shirhadashjerusalem.com/event/lech-lecha/
CATEGORIES:Our Events,Upcoming Events
ATTACH;FMTTYPE=image/jpeg:https://shirhadashjerusalem.com/wp-content/uploads/2017/01/shabbat.jpg
END:VEVENT
END:VCALENDAR