BEGIN:VCALENDAR
VERSION:2.0
PRODID:-//Shir Hadash - ECPv6.15.20//NONSGML v1.0//EN
CALSCALE:GREGORIAN
METHOD:PUBLISH
X-WR-CALNAME:Shir Hadash
X-ORIGINAL-URL:https://shirhadashjerusalem.com
X-WR-CALDESC:Events for Shir Hadash
REFRESH-INTERVAL;VALUE=DURATION:PT1H
X-Robots-Tag:noindex
X-PUBLISHED-TTL:PT1H
BEGIN:VTIMEZONE
TZID:Asia/Jerusalem
BEGIN:DAYLIGHT
TZOFFSETFROM:+0200
TZOFFSETTO:+0300
TZNAME:IDT
DTSTART:20190329T000000
END:DAYLIGHT
BEGIN:STANDARD
TZOFFSETFROM:+0300
TZOFFSETTO:+0200
TZNAME:IST
DTSTART:20191026T230000
END:STANDARD
BEGIN:DAYLIGHT
TZOFFSETFROM:+0200
TZOFFSETTO:+0300
TZNAME:IDT
DTSTART:20200327T000000
END:DAYLIGHT
BEGIN:STANDARD
TZOFFSETFROM:+0300
TZOFFSETTO:+0200
TZNAME:IST
DTSTART:20201024T230000
END:STANDARD
BEGIN:DAYLIGHT
TZOFFSETFROM:+0200
TZOFFSETTO:+0300
TZNAME:IDT
DTSTART:20210326T000000
END:DAYLIGHT
BEGIN:STANDARD
TZOFFSETFROM:+0300
TZOFFSETTO:+0200
TZNAME:IST
DTSTART:20211030T230000
END:STANDARD
END:VTIMEZONE
BEGIN:VEVENT
DTSTART;TZID=Asia/Jerusalem:20200517T080000
DTEND;TZID=Asia/Jerusalem:20200531T170000
DTSTAMP:20260423T135245
CREATED:20200511T103644Z
LAST-MODIFIED:20200511T103644Z
UID:2894-1589702400-1590944400@shirhadashjerusalem.com
SUMMARY:Morning Minyan Returns
DESCRIPTION:From Sunday\, May 17th onwards\, our 8:15 AM Shacharit minyan will return to activity in our building — albeit with the following Corona sensitive conditions: \n\nThe number of participants will be strictly limited to 19. If you would like to reserve a space – and thereby guarantee admittance – e-mail shirhadash613@gmail.com.\nThe minyan will take place outside under our pergola\, and seats will be distanced from one another. Please do not move the chairs.\nMasks are to be worn by all.\nBring your own sidurim.\nThere will be no entrance to the kitchen (and coffee … sorry guys).\nAdmittance to the restroom – and building in general – will be limited to one person at a time.
URL:https://shirhadashjerusalem.com/event/morning-minyan-returns/
LOCATION:shir hadash\, Yakov Rubin #1\, jerusalem\, Jerusalem\, 93111\, Israel
CATEGORIES:Upcoming Events
ATTACH;FMTTYPE=image/jpeg:https://shirhadashjerusalem.com/wp-content/uploads/2020/05/outdoorminyan.jpg
END:VEVENT
BEGIN:VEVENT
DTSTART;TZID=Asia/Jerusalem:20200517T080000
DTEND;TZID=Asia/Jerusalem:20200531T170000
DTSTAMP:20260423T135245
CREATED:20200511T104159Z
LAST-MODIFIED:20200511T104645Z
UID:2897-1589702400-1590944400@shirhadashjerusalem.com
SUMMARY:Daf Yomi Returns (In Person)
DESCRIPTION:From Sunday\, May 17th onwards\, our 9:05 AM Daf Yomi class will return to activity in our building — albeit with the below Corona sensitive conditions.  Please note\, we will continue to broadcast the daf yomi on Shir Hadash’s Facebook Group; it will also be archived on Shir Hadash’s YouTube Channel as well as this website. \n\nThe number of participants will be strictly limited to 19. If you would like to reserve a space – and thereby guarantee admittance – e-mail shirhadash613@gmail.com.\nThe minyan will take place outside under our pergola\, and seats will be distanced from one another. Please do not move the chairs.\nMasks are to be worn by all\, except the Magid Shiur.\nBring (and take home) your own gemara (entrance to the building to either borrow\, or leave\, a gemara will not be permitted).\nThere will be no entrance to the kitchen (and coffee … sorry guys … hopefully only temporary).\nAdmittance to the restroom – and building in general – will be limited to one person at a time.
URL:https://shirhadashjerusalem.com/event/daf-yomi-returns-in-person/
LOCATION:shir hadash\, Yakov Rubin #1\, jerusalem\, Jerusalem\, 93111\, Israel
CATEGORIES:Special,Upcoming Events
ATTACH;FMTTYPE=image/jpeg:https://shirhadashjerusalem.com/wp-content/uploads/2020/05/talmud.jpg
END:VEVENT
BEGIN:VEVENT
DTSTART;TZID=Asia/Jerusalem:20200531T110000
DTEND;TZID=Asia/Jerusalem:20200531T120000
DTSTAMP:20260423T135245
CREATED:20200512T133717Z
LAST-MODIFIED:20200512T133717Z
UID:2943-1590922800-1590926400@shirhadashjerusalem.com
SUMMARY:Parsha Plus
DESCRIPTION:Every Sunday morning at 11 AM Peta Pellach shares her innovative insights on the week’s Torah portion.  At present\, this shiur meets over Zoom — e-mail petapellach@gmail.com for the specific invite — and on our Facebook Group.
URL:https://shirhadashjerusalem.com/event/parsha-plus-8/
CATEGORIES:Our Events
ATTACH;FMTTYPE=image/jpeg:https://shirhadashjerusalem.com/wp-content/uploads/2019/10/peta.jpg
END:VEVENT
END:VCALENDAR